BEGIN:VCALENDAR
VERSION:2.0
PRODID:-//ChamberMaster//Event Calendar 2.0//EN
METHOD:PUBLISH
X-PUBLISHED-TTL:P3D
REFRESH-INTERVAL:P3D
CALSCALE:GREGORIAN
BEGIN:VEVENT
DTSTART;VALUE=DATE:20191116
DTEND;VALUE=DATE:20191117
TRANSP:TRANSPARENT
X-MICROSOFT-CDO-ALLDAYEVENT:TRUE
SUMMARY:Holiday Open House
DESCRIPTION:November 15 @ 10:00 am - November 16 @ 6:00 pm\n Free
X-ALT-DESC;FMTTYPE=text/html:<h2 style="margin: 0px\; padding: 0px\; border: 0px\; font-variant-numeric: inherit\; font-variant-east-asian: inherit\; font-stretch: inherit\; font-size: 1.2em\; line-height: normal\; font-family: &quot\;Patua One&quot\;\, Arial\, Tahoma\, sans-serif\; vertical-align: baseline\; color: rgb(68\, 68\, 68)\; display: inline-block\; background-color: rgb(252\, 252\, 252)\;"><span class="tribe-event-date-start" style="margin: 0px\; padding: 0px\; border: 0px\; font: inherit\; vertical-align: baseline\;">November 15 @ 10:00 am</span>&nbsp\;-&nbsp\;<span class="tribe-event-date-end" style="margin: 0px\; padding: 0px\; border: 0px\; font: inherit\; vertical-align: baseline\;">November 16 @ 6:00 pm</span></h2>\n<span style="color: rgb(98\, 98\, 98)\; font-family: Roboto\, Arial\, Tahoma\, sans-serif\; font-size: 13px\; background-color: rgb(252\, 252\, 252)\;">&nbsp\;</span><span class="tribe-events-cost" style="margin: 0px\; padding: 0px\; border: 0px\; font-variant-numeric: inherit\; font-variant-east-asian: inherit\; font-stretch: inherit\; font-size: 1.2em\; line-height: inherit\; font-family: Roboto\, Arial\, Tahoma\, sans-serif\; vertical-align: baseline\; color: rgb(98\, 98\, 98)\; background-color: rgb(252\, 252\, 252)\;">Free</span>
LOCATION:
UID:e.2912.1813
SEQUENCE:3
DTSTAMP:20260419T163420Z
URL:https://members.bardstownchamber.com/events/details/holiday-open-house-1813
END:VEVENT

END:VCALENDAR
