BEGIN:VCALENDAR
VERSION:2.0
PRODID:-//ChamberMaster//Event Calendar 2.0//EN
METHOD:PUBLISH
X-PUBLISHED-TTL:P3D
REFRESH-INTERVAL:P3D
CALSCALE:GREGORIAN
BEGIN:VEVENT
DTSTART;VALUE=DATE:20181115
DTEND;VALUE=DATE:20181118
TRANSP:TRANSPARENT
X-MICROSOFT-CDO-ALLDAYEVENT:TRUE
SUMMARY:Holiday Open House
DESCRIPTION:Get an early jump on all your holiday shoping by enjoying  a fun and festive day.  Downtown shops will reveal all of their unique  one of a kind items for everyone on your christmas list.
X-ALT-DESC;FMTTYPE=text/html:Get an early jump on all your holiday shoping by enjoying&nbsp\; a fun and festive day.&nbsp\; Downtown shops will reveal all of their unique&nbsp\; one of a kind items for everyone on your christmas list.&nbsp\;
LOCATION:
UID:e.2912.1585
SEQUENCE:3
DTSTAMP:20260419T181616Z
URL:https://members.bardstownchamber.com/events/details/holiday-open-house-1585
END:VEVENT

END:VCALENDAR
