BEGIN:VCALENDAR
VERSION:2.0
PRODID:-//ChamberMaster//Event Calendar 2.0//EN
METHOD:PUBLISH
X-PUBLISHED-TTL:P3D
REFRESH-INTERVAL:P3D
CALSCALE:GREGORIAN
BEGIN:VEVENT
DTSTART:20191019T180000Z
DTEND:20191020T000000Z
X-MICROSOFT-CDO-ALLDAYEVENT:FALSE
SUMMARY:Holiday Open House
DESCRIPTION:Holiday Open House at The Rustic Rose! Come see our Christmas d cor\, including 5 different decorated trees\, wreaths\, gifts and more! Halloween and Fall/Thanksgiving specials and sales.
X-ALT-DESC;FMTTYPE=text/html:Holiday Open House at The Rustic Rose! Come see our Christmas d&eacute\;cor\, including 5 different decorated trees\, wreaths\, gifts and more! Halloween and Fall/Thanksgiving specials and sales.
LOCATION:The Rustic Rose 136 Fairfield Hill Rd. Bloomfield\, KY 40008
UID:e.2912.1807
SEQUENCE:3
DTSTAMP:20260419T163455Z
URL:https://members.bardstownchamber.com/events/details/holiday-open-house-10-19-2019-1807
END:VEVENT

END:VCALENDAR
