BEGIN:VCALENDAR
VERSION:2.0
PRODID:-//ChamberMaster//Event Calendar 2.0//EN
METHOD:PUBLISH
X-PUBLISHED-TTL:P3D
REFRESH-INTERVAL:P3D
CALSCALE:GREGORIAN
BEGIN:VEVENT
DTSTART:20180816T200000Z
DTEND:20180816T220000Z
X-MICROSOFT-CDO-ALLDAYEVENT:FALSE
SUMMARY:HMH 4:01
DESCRIPTION:
X-ALT-DESC;FMTTYPE=text/html:
LOCATION:
UID:e.2912.1517
SEQUENCE:3
DTSTAMP:20260419T211603Z
URL:https://members.bardstownchamber.com/events/details/hmh-4-01-1517
END:VEVENT

END:VCALENDAR
