BEGIN:VCALENDAR
VERSION:2.0
PRODID:-//ChamberMaster//Event Calendar 2.0//EN
METHOD:PUBLISH
X-PUBLISHED-TTL:P3D
REFRESH-INTERVAL:P3D
CALSCALE:GREGORIAN
BEGIN:VEVENT
DTSTART:20180407T130000Z
DTEND:20180408T200000Z
X-MICROSOFT-CDO-ALLDAYEVENT:FALSE
SUMMARY:Historic Bardstown Antique Show
DESCRIPTION:More than 60 dealers from multiple states will offer an eclectic mix of quality antiques. Find treasures for the home\, garden\, and happiness for the soul! Don't miss our 51st show - put it on your antique calendar!
X-ALT-DESC;FMTTYPE=text/html:<span style="color: rgb(87\, 81\, 81)\; font-family: Georgia\, serif\; font-size: 16px\; background-color: rgb(255\, 255\, 255)\;">More than 60 dealers from multiple states will offer an eclectic mix of quality antiques. Find treasures for the home\, garden\, and happiness for the soul! Don&#39\;t miss our 51st show - put it on your antique calendar!</span>
LOCATION:1070 Bloomfield Rd. Hwy. 62 E
UID:e.2912.1441
SEQUENCE:3
DTSTAMP:20260420T023204Z
URL:https://members.bardstownchamber.com/events/details/historic-bardstown-antique-show-1441
END:VEVENT

END:VCALENDAR
