BEGIN:VCALENDAR
VERSION:2.0
PRODID:-//ChamberMaster//Event Calendar 2.0//EN
METHOD:PUBLISH
X-PUBLISHED-TTL:P3D
REFRESH-INTERVAL:P3D
CALSCALE:GREGORIAN
BEGIN:VEVENT
DTSTART:20181208T130000Z
DTEND:20181208T170000Z
X-MICROSOFT-CDO-ALLDAYEVENT:FALSE
SUMMARY:Hillside Hustle\, benefitting Fort Knox Santa's Workshop
DESCRIPTION:Charity for Fort Knox Santa's Workshop which helps provide gifts to military families struggling with financial hardship. Register at hillsidehustle.com . For more information visit our website.
X-ALT-DESC;FMTTYPE=text/html:Charity for Fort Knox Santa&#39\;s Workshop which helps provide gifts to military families struggling with financial hardship. Register at hillsidehustle.com . For more information visit our website.
LOCATION:Bernheim Forest
UID:e.2912.1642
SEQUENCE:3
DTSTAMP:20260419T163757Z
URL:https://members.bardstownchamber.com/events/details/hillside-hustle-benefitting-fort-knox-santa-s-workshop-1642
END:VEVENT

END:VCALENDAR
