BEGIN:VCALENDAR
VERSION:2.0
PRODID:-//ChamberMaster//Event Calendar 2.0//EN
METHOD:PUBLISH
X-PUBLISHED-TTL:P3D
REFRESH-INTERVAL:P3D
CALSCALE:GREGORIAN
BEGIN:VEVENT
DTSTART:20181205T153000Z
DTEND:20181205T180000Z
X-MICROSOFT-CDO-ALLDAYEVENT:FALSE
SUMMARY:Hidden in the Hollies
DESCRIPTION:Don't miss connecting with the season by celebrating the stories and lore hidden in Bernheim's collection of Holly's. Space is limited\, no pets allowed. Registration and payment due by 4 pm the day prior to the start of the program. Register for this event by calling\, for more information about this event please visit our website.
X-ALT-DESC;FMTTYPE=text/html:Don&#39\;t miss connecting with the season by celebrating the stories and lore hidden in Bernheim&#39\;s collection of Holly&#39\;s. Space is limited\, no pets allowed. Registration and payment due by 4 pm the day prior to the start of the program. Register for this event by calling\, for more information about this event please visit our website.
LOCATION:Bernheim Forest\, Visitor Center
UID:e.2912.1641
SEQUENCE:3
DTSTAMP:20260419T145343Z
URL:https://members.bardstownchamber.com/events/details/hidden-in-the-hollies-1641
END:VEVENT

END:VCALENDAR
