BEGIN:VCALENDAR
VERSION:2.0
PRODID:-//ChamberMaster//Event Calendar 2.0//EN
METHOD:PUBLISH
X-PUBLISHED-TTL:P3D
REFRESH-INTERVAL:P3D
CALSCALE:GREGORIAN
BEGIN:VEVENT
DTSTART:20180825T140000Z
DTEND:20180826T033000Z
X-MICROSOFT-CDO-ALLDAYEVENT:FALSE
SUMMARY:Heartland Homecoming Parade
DESCRIPTION:The Heartland Homecoming Parade has been tradition in Elizabethtown for over 30 years. The Homecoming parade celebrates rich history\, and begins in the heart of E-town\, the Historic Downtown. Over 10\,000 people line the streets to wave to over 130 parade entries and celebrate our homecoming each year!
X-ALT-DESC;FMTTYPE=text/html:<span style="color: rgb(29\, 33\, 41)\; font-family: Helvetica\, Arial\, sans-serif\; font-size: 14px\; background-color: rgb(255\, 255\, 255)\;">The Heartland Homecoming Parade has been tradition in Elizabethtown for over 30 years. The Homecoming parade celebrates rich history\, and begins in the heart of E-town\, the Historic Downtown. Over 10\,000 people line the streets to wave to over 130 parade entries and celebrate our homecoming each year!</span>
LOCATION:pin Elizabethtown City Events 200 West Dixie\, Elizabethtown\, Kentucky 42701
UID:e.2912.1536
SEQUENCE:3
DTSTAMP:20260419T211818Z
URL:https://members.bardstownchamber.com/events/details/heartland-homecoming-parade-1536
END:VEVENT

END:VCALENDAR
