BEGIN:VCALENDAR
VERSION:2.0
PRODID:-//ChamberMaster//Event Calendar 2.0//EN
METHOD:PUBLISH
X-PUBLISHED-TTL:P3D
REFRESH-INTERVAL:P3D
CALSCALE:GREGORIAN
BEGIN:VEVENT
DTSTART:20191025T200000Z
DTEND:20191025T220000Z
X-MICROSOFT-CDO-ALLDAYEVENT:FALSE
SUMMARY:Halloween Spooktacular
DESCRIPTION:Downtown Trick or Treating 4p\n\nFarmers Market Games 4-6p\n\nMovie 6p
X-ALT-DESC;FMTTYPE=text/html:<p style="margin: 0px 0px 10px\; padding: 0px\; border: 0px\; font-variant-numeric: inherit\; font-variant-east-asian: inherit\; font-stretch: inherit\; font-size: 13px\; line-height: 1.7\; font-family: Roboto\, Arial\, Tahoma\, sans-serif\; vertical-align: baseline\; color: rgb(98\, 98\, 98)\; background-color: rgb(252\, 252\, 252)\;">Downtown Trick or Treating 4p</p>\n\n<p style="margin: 0px 0px 10px\; padding: 0px\; border: 0px\; font-variant-numeric: inherit\; font-variant-east-asian: inherit\; font-stretch: inherit\; font-size: 13px\; line-height: 1.7\; font-family: Roboto\, Arial\, Tahoma\, sans-serif\; vertical-align: baseline\; color: rgb(98\, 98\, 98)\; background-color: rgb(252\, 252\, 252)\;">Farmers Market Games 4-6p</p>\n\n<p style="margin: 0px 0px 10px\; padding: 0px\; border: 0px\; font-variant-numeric: inherit\; font-variant-east-asian: inherit\; font-stretch: inherit\; font-size: 13px\; line-height: 1.7\; font-family: Roboto\, Arial\, Tahoma\, sans-serif\; vertical-align: baseline\; color: rgb(98\, 98\, 98)\; background-color: rgb(252\, 252\, 252)\;">Movie 6p</p>\n
LOCATION:https://www.bardstownmainstreet.com/event/halloween-spooktacular/
UID:e.2912.1812
SEQUENCE:3
DTSTAMP:20260419T145219Z
URL:https://members.bardstownchamber.com/events/details/halloween-spooktacular-1812
END:VEVENT

END:VCALENDAR
