BEGIN:VCALENDAR
VERSION:2.0
PRODID:-//ChamberMaster//Event Calendar 2.0//EN
METHOD:PUBLISH
X-PUBLISHED-TTL:P3D
REFRESH-INTERVAL:P3D
CALSCALE:GREGORIAN
BEGIN:VEVENT
DTSTART:20181026T210000Z
DTEND:20181026T230000Z
X-MICROSOFT-CDO-ALLDAYEVENT:FALSE
SUMMARY:Halloween Spooktacular
DESCRIPTION:Join us downtown for  trick- or- treating with your favorite  merchants\, fun games and a movie night all in one.
X-ALT-DESC;FMTTYPE=text/html:Join us downtown for&nbsp\; trick- or- treating with your favorite&nbsp\; merchants\, fun games and a movie night all in one.&nbsp\;
LOCATION:
UID:e.2912.1581
SEQUENCE:3
DTSTAMP:20260419T181642Z
URL:https://members.bardstownchamber.com/events/details/halloween-spooktacular-1581
END:VEVENT

END:VCALENDAR
