BEGIN:VCALENDAR
VERSION:2.0
PRODID:-//ChamberMaster//Event Calendar 2.0//EN
METHOD:PUBLISH
X-PUBLISHED-TTL:P3D
REFRESH-INTERVAL:P3D
CALSCALE:GREGORIAN
BEGIN:VEVENT
DTSTART:20210716T120000Z
DTEND:20210716T140000Z
X-MICROSOFT-CDO-ALLDAYEVENT:FALSE
SUMMARY:Grand Opening & Ribbon Cutting for Holiday Inn Express & Suites Bardstown
DESCRIPTION:Holiday Inn Express & Suites Bardstown is hosting a Grand Opening & Ribbon Cutting.\n\nBreakfast Served from 8:00AM to 10:00AM\n\nRibbon Cutting at 9:00AM
X-ALT-DESC;FMTTYPE=text/html:Holiday Inn Express &amp\; Suites Bardstown is hosting a Grand Opening &amp\; Ribbon Cutting.<br />\nBreakfast Served from 8:00AM to 10:00AM<br />\nRibbon Cutting at 9:00AM&nbsp\;
LOCATION:950 Morton Ave\, Bardstown
UID:e.2912.3004
SEQUENCE:3
DTSTAMP:20260425T002620Z
URL:https://members.bardstownchamber.com/events/details/grand-opening-ribbon-cutting-for-holiday-inn-express-suites-bardstown-3004
END:VEVENT

END:VCALENDAR
