BEGIN:VCALENDAR
VERSION:2.0
PRODID:-//ChamberMaster//Event Calendar 2.0//EN
METHOD:PUBLISH
X-PUBLISHED-TTL:P3D
REFRESH-INTERVAL:P3D
CALSCALE:GREGORIAN
BEGIN:VEVENT
DTSTART:20200303T140000Z
DTEND:20200303T143000Z
X-MICROSOFT-CDO-ALLDAYEVENT:FALSE
SUMMARY:Gordmans Grand Opening
DESCRIPTION:Be there when big brands meet everyday low prices. It's time to go ga-ga for Gordmans\n\nGordmans Grand opening located at 100 E John Rowan Blvd Bardstown\, KY\n\nRibbon cutting to follow speech!\n\nFirst 100 guest \n\nget a free insulated Gordmans tote* & a scratch-off card** worth up to $ 50 dollars!\n\nget more info at gordmans.com/brandbash
X-ALT-DESC;FMTTYPE=text/html:Be there when big brands meet everyday low prices. It&rsquo\;s time to go ga-ga for Gordmans<br />\nGordmans Grand opening located at&nbsp\;100 E John Rowan Blvd Bardstown\, KY<br />\nRibbon cutting to follow speech!<br />\nFirst 100 guest&nbsp\;<br />\nget a free insulated Gordmans tote* &amp\; a scratch-off card** worth up to $ 50 dollars!<br />\nget more info at gordmans.com/brandbash
LOCATION:
UID:e.2912.2832
SEQUENCE:3
DTSTAMP:20260419T224728Z
URL:https://members.bardstownchamber.com/events/details/gordmans-grand-opening-2832
END:VEVENT

END:VCALENDAR
