BEGIN:VCALENDAR
VERSION:2.0
PRODID:-//ChamberMaster//Event Calendar 2.0//EN
METHOD:PUBLISH
X-PUBLISHED-TTL:P3D
REFRESH-INTERVAL:P3D
CALSCALE:GREGORIAN
BEGIN:VEVENT
DTSTART:20180628T200000Z
DTEND:20180628T220000Z
X-MICROSOFT-CDO-ALLDAYEVENT:FALSE
SUMMARY:Going Away Celebration honoring Jamie Sizemore
DESCRIPTION:Please join us as we say Thank You & Best Wishes  at a Going Away Celebration honoring Kentucky Standard Publisher Jamie Sizemore.
X-ALT-DESC;FMTTYPE=text/html:Please join us as we say Thank You &amp\; Best Wishes&nbsp\; at a Going Away Celebration honoring Kentucky Standard Publisher Jamie Sizemore.
LOCATION:Thursday June 28 4 to 6 P.M at Mammy's Kitchen 116 W Stephen Foster Ave Bardstown
UID:e.2912.1520
SEQUENCE:3
DTSTAMP:20260420T000016Z
URL:https://members.bardstownchamber.com/events/details/going-away-celebration-honoring-jamie-sizemore-1520
END:VEVENT

END:VCALENDAR
