BEGIN:VCALENDAR
VERSION:2.0
PRODID:-//ChamberMaster//Event Calendar 2.0//EN
METHOD:PUBLISH
X-PUBLISHED-TTL:P3D
REFRESH-INTERVAL:P3D
CALSCALE:GREGORIAN
BEGIN:VEVENT
DTSTART;VALUE=DATE:20201220
DTEND;VALUE=DATE:20210101
TRANSP:TRANSPARENT
X-MICROSOFT-CDO-ALLDAYEVENT:TRUE
SUMMARY:Give a gift straight from your heart this holiday…….the gift of life!
DESCRIPTION:When you give blood\, you give someone another holiday\, another snowball fight\, and more time with family and loved ones.\n\n\n\nMake this December one to remember. Give someone the gift of life by donating blood.\n\n\n\nTo help meet the rising demand for CCP\, KBC will test all donations made until January 31 for COVID-19 antibodies. All donors will receive a limited-edition KBC thank you item\n\nWe try to keep a three day supply of blood on the shelves\, and right now\, we urgently need O-\,O+ and A- type blood. Please consider making an appointment and donating blood. Without you\, local patients can't receive the blood they need. Give us a call at 800-775-2522 or schedule your lifesaving appointment here.
X-ALT-DESC;FMTTYPE=text/html:<span style="font-size:14px"><span style="color:#050505"><span style="font-family:helvetica\,sans-serif">When you give blood\, you give someone another holiday\, another snowball fight\, and more time with family and loved ones.</span></span><br />\n<br />\n<span style="color:#050505"><span style="font-family:helvetica\,sans-serif">Make this December one to remember. Give someone the gift of life by donating blood.</span></span><br />\n<br />\n<span style="color:black"><span style="font-family:helvetica\,sans-serif">To help meet the rising demand for CCP\,&nbsp\;<strong><span style="font-family:helvetica\,sans-serif">KBC will test all donations made until January 31 for COVID-19 antibodies</span></strong>. All donors will receive a limited-edition KBC thank you item</span></span><br />\n<span style="color:#050505"><span style="font-family:segoe ui historic\,sans-serif">We try to keep a three day supply of blood on the shelves\, and right now\, we urgently need O-\,O+ and A- type blood. Please consider making an appointment and donating blood. Without you\, local patients can&#39\;t receive the blood they need. Give us a call at 800-775-2522 or </span></span><a href="https://my.kybloodcenter.org/donor/schedules/centers"><span style="font-family:segoe ui historic\,sans-serif">schedule your lifesaving appointment here.</span></a></span>
LOCATION:5406 Antle Drive Louisville\, KY 40229 112905 Shelbyville Road Louisville\, KY 40243
UID:e.2912.2910
SEQUENCE:3
DTSTAMP:20260424T110619Z
URL:https://members.bardstownchamber.com/events/details/give-a-gift-straight-from-your-heart-this-holiday-the-gift-of-life-12-20-2020-2910
END:VEVENT

END:VCALENDAR
