BEGIN:VCALENDAR
VERSION:2.0
PRODID:-//ChamberMaster//Event Calendar 2.0//EN
METHOD:PUBLISH
X-PUBLISHED-TTL:P3D
REFRESH-INTERVAL:P3D
CALSCALE:GREGORIAN
BEGIN:VEVENT
DTSTART:20180512T113000Z
DTEND:20180512T160000Z
X-MICROSOFT-CDO-ALLDAYEVENT:FALSE
SUMMARY:Girls on the Run of Louisville 5k
DESCRIPTION:At Girls on the Run we inspire girls to recognize their inner strength and celebrate what makes them one of a kind. Trained coaches lead small teams through our research-based curricula which includes dynamic discussions\, activities and running games. Over the course of the ten-week program\, girls in 3rd-8th grade develop essential skills to help them navigate their worlds and establish a lifetime appreciation for health and fitness. The program culminates with girls positively impacting their communities through a service project and being physically and emotionally prepared to complete a celebratory 5K event.
X-ALT-DESC;FMTTYPE=text/html:At Girls on the Run we inspire girls to recognize their inner strength and celebrate what makes them one of a kind. Trained coaches lead small teams through our research-based curricula which includes dynamic discussions\, activities and running games. Over the course of the ten-week program\, girls in 3rd-8th grade develop essential skills to help them navigate their worlds and establish a lifetime appreciation for health and fitness. The program culminates with girls positively impacting their communities through a service project and being physically and emotionally prepared to complete a celebratory 5K event.
LOCATION:The Parklands of Floyds Fork
UID:e.2912.1449
SEQUENCE:3
DTSTAMP:20260420T012437Z
URL:https://members.bardstownchamber.com/events/details/girls-on-the-run-of-louisville-5k-1449
END:VEVENT

END:VCALENDAR
