BEGIN:VCALENDAR
VERSION:2.0
PRODID:-//ChamberMaster//Event Calendar 2.0//EN
METHOD:PUBLISH
X-PUBLISHED-TTL:P3D
REFRESH-INTERVAL:P3D
CALSCALE:GREGORIAN
BEGIN:VEVENT
DTSTART:20180830T223000Z
DTEND:20180831T000000Z
X-MICROSOFT-CDO-ALLDAYEVENT:FALSE
SUMMARY:Girls Night Out ?
DESCRIPTION:Girls Night Out! Girls of all ages welcome. We are excited to unveil our new line of Jewelry Engravables! Necklaces\, Bracelets\, Rings\, Charms   Come get creative and see what your favorite quote\, scripture\, or Monogram looks like on our new line! Get your name in our drawings by simply commenting on the posts in this event! Invite your friends for Discounts\, Drawings\, Givaways\, and more
X-ALT-DESC;FMTTYPE=text/html:<span style="color: rgb(29\, 33\, 41)\; font-family: Helvetica\, Arial\, sans-serif\; font-size: 14px\; background-color: rgb(255\, 255\, 255)\;">Girls Night Out! Girls of all ages welcome. We are excited to unveil our new line of Jewelry Engravables! Necklaces\, Bracelets\, Rings\, Charms &#9825\; Come get creative and see what your favorite quote\, scripture\, or Monogram looks like on our new line! Get your name in our drawings by simply commenting on the posts in this event! Invite your friends for Discounts\, Drawings\, Givaways\, and more &#9825\;</span>
LOCATION:
UID:e.2912.1590
SEQUENCE:3
DTSTAMP:20260419T224146Z
URL:https://members.bardstownchamber.com/events/details/girls-night-out-1590
END:VEVENT

END:VCALENDAR
