BEGIN:VCALENDAR
VERSION:2.0
PRODID:-//ChamberMaster//Event Calendar 2.0//EN
METHOD:PUBLISH
X-PUBLISHED-TTL:P3D
REFRESH-INTERVAL:P3D
CALSCALE:GREGORIAN
BEGIN:VEVENT
DTSTART:20180915T000000Z
DTEND:20180915T040000Z
X-MICROSOFT-CDO-ALLDAYEVENT:FALSE
SUMMARY:GET YOUR BOURBON ON
DESCRIPTION:Great southern rock bank The Les Masters Band and Bardstown own Makayla Richardson will rock Bullitt's Brewery & BBQ Friday night of Bourbon Festival. Come join us for drinks\, dinner & fun. No cover charge. See you there!!
X-ALT-DESC;FMTTYPE=text/html:Great southern rock bank The Les Masters Band and Bardstown own Makayla Richardson will rock Bullitt&#39\;s Brewery &amp\; BBQ Friday night of Bourbon Festival. Come join us for drinks\, dinner &amp\; fun. No cover charge. See you there!!
LOCATION:
UID:e.2912.1584
SEQUENCE:3
DTSTAMP:20260419T211522Z
URL:https://members.bardstownchamber.com/events/details/get-your-bourbon-on-1584
END:VEVENT

END:VCALENDAR
