BEGIN:VCALENDAR
VERSION:2.0
PRODID:-//ChamberMaster//Event Calendar 2.0//EN
METHOD:PUBLISH
X-PUBLISHED-TTL:P3D
REFRESH-INTERVAL:P3D
CALSCALE:GREGORIAN
BEGIN:VEVENT
DTSTART:20181027T210000Z
DTEND:20181028T010000Z
X-MICROSOFT-CDO-ALLDAYEVENT:FALSE
SUMMARY:Gamescience Annual Costume Contest!
DESCRIPTION:pin\n			\n			\n			\n			\n			\n			\n			 \n\n			\n			Gamescience Dice Depot\n\n			601 W Stephen Foster Ave Ste 16\, Bardstown\, Kentucky 40004
X-ALT-DESC;FMTTYPE=text/html:<table cellpadding="0" cellspacing="0" class="uiGrid _51mz" style="border: 0px\; border-collapse: collapse\; border-spacing: 0px\; color: rgb(29\, 33\, 41)\; font-family: Helvetica\, Arial\, sans-serif\; font-size: 12px\; background-color: rgb(245\, 246\, 247)\;">\n	<tbody>\n		<tr class="_51mx">\n			<td class="_51m- _phw" style="font-family: inherit\; padding: 0px\;">\n			<div aria-hidden="true" class="_6a" style="display: inline-block\; font-family: inherit\;">\n			<div class="_6a _6b" style="display: inline-block\; vertical-align: middle\; font-family: inherit\;"><i class="_ohg img sp_9SEvfEYzico sx_53195a" style="background-image: url(&quot\;/rsrc.php/v3/yE/r/EgE6F6Bjqa7.png&quot\;)\; background-size: auto\; background-repeat: no-repeat\; display: block\; height: 16px\; width: 16px\; margin: 0px 10px 0px 12px\; background-position: 0px -390px\;"><u style="clip: rect(1px\, 1px\, 1px\, 1px)\; height: 1px\; left: auto\; overflow: hidden\; position: absolute\; white-space: nowrap\; width: 1px\;">pin</u></i></div>\n			</div>\n			</td>\n			<td class="_51m- _51mw" style="font-family: inherit\; padding-right: 0px\; padding-top: 0px\; padding-bottom: 0px\;">\n			<div class="_4930" style="align-items: center\; display: flex\; flex-direction: row\; width: 456px\; font-family: inherit\;">\n			<div class="_4dpf _phw" style="padding: 8px 0px\; flex-grow: 1\; font-family: inherit\;">\n			<div class="_6a" style="display: inline-block\; font-family: inherit\;">\n			<div class="_6a _6b" style="display: inline-block\; vertical-align: middle\; font-family: inherit\; height: 32px\;">&nbsp\;</div>\n\n			<div class="_6a _6b" style="display: inline-block\; vertical-align: middle\; font-family: inherit\;">\n			<div class="_xkh" style="margin: 2px 0px\; font-family: inherit\;"><a aria-describedby="u_7t_1" aria-owns="js_6vc" class="_5xhk" data-hovercard="/ajax/hovercard/page.php?id=1582593838702934&amp\;extragetparams=%7B%22eid%22%3A%22ARAgaumvhVcia9SZFpDmieQnT8gtgnUlDbl09sqxgibZ7UwGvcPuFHTl5YJ17CtBA7hgFYvEt0yP3a2x%22%7D" data-hovercard-prefer-more-content-show="1" href="https://www.facebook.com/dicedepot/?eid=ARAgaumvhVcia9SZFpDmieQnT8gtgnUlDbl09sqxgibZ7UwGvcPuFHTl5YJ17CtBA7hgFYvEt0yP3a2x" id="u_7p_8" style="color: rgb(75\, 79\, 86)\; cursor: pointer\; position: relative\; z-index: 2\; font-family: inherit\; font-size: 14px\;">Gamescience Dice Depot</a>\n\n			<div class="_5xhp fsm fwn fcg" style="color: rgb(144\, 148\, 156)\; max-width: 376px\; overflow: hidden\; text-overflow: ellipsis\; white-space: nowrap\; font-family: inherit\;">601 W Stephen Foster Ave Ste 16\, Bardstown\, Kentucky 40004</div>\n			</div>\n			</div>\n			</div>\n			</div>\n			</div>\n			</td>\n		</tr>\n	</tbody>\n</table>\n
LOCATION:
UID:e.2912.1614
SEQUENCE:3
DTSTAMP:20260419T181604Z
URL:https://members.bardstownchamber.com/events/details/gamescience-annual-costume-contest-1614
END:VEVENT

END:VCALENDAR
