BEGIN:VCALENDAR
VERSION:2.0
PRODID:-//ChamberMaster//Event Calendar 2.0//EN
METHOD:PUBLISH
X-PUBLISHED-TTL:P3D
REFRESH-INTERVAL:P3D
CALSCALE:GREGORIAN
BEGIN:VEVENT
DTSTART:20180320T200000Z
DTEND:20180321T020000Z
X-MICROSOFT-CDO-ALLDAYEVENT:FALSE
SUMMARY:Fundraiser for Thomas Nelson by Colton's Steak House & Grill
DESCRIPTION:Support Project Grad for Thomas Nelson High School\n\n10% of all sales will go to the support Project Grad.
X-ALT-DESC;FMTTYPE=text/html:Support Project Grad for Thomas Nelson High School<br />\n10% of all sales will go to the support Project Grad.&nbsp\;
LOCATION:Colton's Steak House & Grill Bardstown Location
UID:e.2912.1438
SEQUENCE:3
DTSTAMP:20260420T054105Z
URL:https://members.bardstownchamber.com/events/details/fundraiser-for-thomas-nelson-by-colton-s-steak-house-grill-1438
END:VEVENT

END:VCALENDAR
