BEGIN:VCALENDAR
VERSION:2.0
PRODID:-//ChamberMaster//Event Calendar 2.0//EN
METHOD:PUBLISH
X-PUBLISHED-TTL:P3D
REFRESH-INTERVAL:P3D
CALSCALE:GREGORIAN
BEGIN:VEVENT
DTSTART:20180424T200000Z
DTEND:20180425T020000Z
X-MICROSOFT-CDO-ALLDAYEVENT:FALSE
SUMMARY:Fundraiser for Nelson County High School by Colton's Steak House & Grill
DESCRIPTION:Support Project Grad for Nelson County High School\n\n10% of all sales will go to the support Project Grad.
X-ALT-DESC;FMTTYPE=text/html:Support Project Grad for Nelson County High School<br />\n10% of all sales will go to the support Project Grad.&nbsp\;
LOCATION:Colton's Steak House & Grill Bardstown Location
UID:e.2912.1454
SEQUENCE:3
DTSTAMP:20260420T023410Z
URL:https://members.bardstownchamber.com/events/details/fundraiser-for-nelson-county-high-school-by-colton-s-steak-house-grill-1454
END:VEVENT

END:VCALENDAR
