BEGIN:VCALENDAR
VERSION:2.0
PRODID:-//ChamberMaster//Event Calendar 2.0//EN
METHOD:PUBLISH
X-PUBLISHED-TTL:P3D
REFRESH-INTERVAL:P3D
CALSCALE:GREGORIAN
BEGIN:VEVENT
DTSTART:20190218T220000Z
DTEND:20190219T000000Z
X-MICROSOFT-CDO-ALLDAYEVENT:FALSE
SUMMARY:Free Open House Reception - Meet our Artists & Members
DESCRIPTION:Bardstown for the Arts - The Gallery will be hosting an Open House Reception This FREE event is a chance to meet some of the artists\, instructors\, and members that make our gallery a success. Explore becoming a member and learn about upcoming classes\, exhibits\, events\, and lectures. During the event door prizes will be awarded randomly to guests. RSVP on Eventbrite   For a chance to win a signed piece of art
X-ALT-DESC;FMTTYPE=text/html:Bardstown for the Arts - The Gallery will be hosting an Open House Reception This FREE event is a chance to meet some of the artists\, instructors\, and members that make our gallery a success. Explore becoming a member and learn about upcoming classes\, exhibits\, events\, and lectures. During the event door prizes will be awarded randomly to guests. RSVP on Eventbrite &ndash\; For a chance to win a signed piece of art
LOCATION:Bardstown for the Arts-The Gallery
UID:e.2912.1659
SEQUENCE:3
DTSTAMP:20260419T114815Z
URL:https://members.bardstownchamber.com/events/details/free-open-house-reception-meet-our-artists-members-1659
END:VEVENT

END:VCALENDAR
