BEGIN:VCALENDAR
VERSION:2.0
PRODID:-//ChamberMaster//Event Calendar 2.0//EN
METHOD:PUBLISH
X-PUBLISHED-TTL:P3D
REFRESH-INTERVAL:P3D
CALSCALE:GREGORIAN
BEGIN:VEVENT
DTSTART:20250524T000000Z
DTEND:20250524T013000Z
X-MICROSOFT-CDO-ALLDAYEVENT:FALSE
SUMMARY:Free Informational Breakfast with BluMine Health
DESCRIPTION:Join the Bardstown-Nelson County Chamber of Commerce and BluMine Health for a FREE informational breakfast. Explore this new member benefit\, get your questions answered\, and tour BluMine Health on May 23rd\, 8:00-9:30 AM at 700 Portland Ave. Suite C. Space is limited to the first 25 attendees.
X-ALT-DESC;FMTTYPE=text/html:Join the Bardstown-Nelson County Chamber of Commerce and BluMine Health for a FREE informational breakfast. Explore this new member benefit\, get your questions answered\, and tour BluMine Health on May 23rd\, 8:00-9:30 AM at 700 Portland Ave. Suite C. Space is limited to the first 25 attendees.
LOCATION:
UID:e.2912.3511
SEQUENCE:3
DTSTAMP:20260424T233831Z
URL:https://members.bardstownchamber.com/events/details/free-informational-breakfast-with-blumine-health-3511
END:VEVENT

END:VCALENDAR
