BEGIN:VCALENDAR
VERSION:2.0
PRODID:-//ChamberMaster//Event Calendar 2.0//EN
METHOD:PUBLISH
X-PUBLISHED-TTL:P3D
REFRESH-INTERVAL:P3D
CALSCALE:GREGORIAN
BEGIN:VEVENT
DTSTART:20180524T223000Z
DTEND:20180525T010000Z
X-MICROSOFT-CDO-ALLDAYEVENT:FALSE
SUMMARY:Fork + Bottle: Maker's Mark & Newman Miller
DESCRIPTION:Do you love a fine wine? Craft beer? Sipping bourbon? So do we. Join Lockbox for Fork + Bottle\, a unique dinner series in which we educate\, pair\, and taste inspired menus by executive chef Jonathan Searle with a variety of guest beverage experts.\n\n\n\nFor our May edition\, Chef Jonathan Searle will join forces with Chef Newman Miller and Chairman Emeritus Bill Samuels Jr. of Makers Mark. The evening will begin with canap s and cocktails\, followed by a 3 course family style dinner with bourbon and bourbon cocktail pairings. Along the way\, Chairman Emeritus Bill Samuels Jr. will provide insights into all things Makers Mark.\n\n\n\nNot a bourbon expert? That's okay! Maker's Mark's crew\, in addition to Chef Searle and the Lockbox team\, will be in attendance to guide you through the pairings.\n\n\n\n  Seating is limited! Call 859.899.6860 or purchase your ticket now to reserve your spot.
X-ALT-DESC;FMTTYPE=text/html:<span style="color: rgb(75\, 79\, 86)\; font-family: Helvetica\, Arial\, sans-serif\; font-size: 14px\; background-color: rgb(255\, 255\, 255)\;">Do you love a fine wine? Craft beer? Sipping bourbon? So do we. Join Lockbox for Fork + Bottle\, a unique dinner series in which we educate\, pair\, and taste inspired menus by executive chef Jonathan Searle with a variety of guest beverage experts.</span><br style="color: rgb(75\, 79\, 86)\; font-family: Helvetica\, Arial\, sans-serif\; font-size: 14px\; background-color: rgb(255\, 255\, 255)\;" />\n<br style="color: rgb(75\, 79\, 86)\; font-family: Helvetica\, Arial\, sans-serif\; font-size: 14px\; background-color: rgb(255\, 255\, 255)\;" />\n<span style="color: rgb(75\, 79\, 86)\; font-family: Helvetica\, Arial\, sans-serif\; font-size: 14px\; background-color: rgb(255\, 255\, 255)\;">For our May edition\, Chef Jonathan Searle will join forces with Chef Newman Miller and Chairman Emeritus Bill Samuels Jr. of Makers Mark. The evening will begin with canap&eacute\;s and cocktails\, followed by a 3 course family style dinner with bourbon and bourbon cocktail pairings. Along the way\, Chairman Emeritus Bill Samuels Jr. will provide insights into all things Makers Mark.</span><br style="color: rgb(75\, 79\, 86)\; font-family: Helvetica\, Arial\, sans-serif\; font-size: 14px\; background-color: rgb(255\, 255\, 255)\;" />\n<br style="color: rgb(75\, 79\, 86)\; font-family: Helvetica\, Arial\, sans-serif\; font-size: 14px\; background-color: rgb(255\, 255\, 255)\;" />\n<span style="color: rgb(75\, 79\, 86)\; font-family: Helvetica\, Arial\, sans-serif\; font-size: 14px\; background-color: rgb(255\, 255\, 255)\;">Not a bourbon expert? That&rsquo\;s okay! Maker&#39\;s Mark&#39\;s crew\, in addition to Chef Searle and the Lockbox team\, will be in attendance to guide you through the pairings.</span><br style="color: rgb(75\, 79\, 86)\; font-family: Helvetica\, Arial\, sans-serif\; font-size: 14px\; background-color: rgb(255\, 255\, 255)\;" />\n<br style="color: rgb(75\, 79\, 86)\; font-family: Helvetica\, Arial\, sans-serif\; font-size: 14px\; background-color: rgb(255\, 255\, 255)\;" />\n<span style="color: rgb(75\, 79\, 86)\; font-family: Helvetica\, Arial\, sans-serif\; font-size: 14px\; background-color: rgb(255\, 255\, 255)\;">&gt\; Seating is limited! Call 859.899.6860 or purchase your ticket now to reserve your spot.</span>
LOCATION:167 W Main St\, Lexington\, Kentucky 40507
UID:e.2912.1483
SEQUENCE:3
DTSTAMP:20260420T010709Z
URL:https://members.bardstownchamber.com/events/details/fork-bottle-maker-s-mark-newman-miller-1483
END:VEVENT

END:VCALENDAR
