BEGIN:VCALENDAR
VERSION:2.0
PRODID:-//ChamberMaster//Event Calendar 2.0//EN
METHOD:PUBLISH
X-PUBLISHED-TTL:P3D
REFRESH-INTERVAL:P3D
CALSCALE:GREGORIAN
BEGIN:VEVENT
DTSTART:20171118T153000Z
DTEND:20171118T210000Z
X-MICROSOFT-CDO-ALLDAYEVENT:FALSE
SUMMARY:Forget Black Friday! Multi Vendor Sale
DESCRIPTION:Over 20 local vendors with various homemade/craft and direct marketing booths to offer something for everyone!! Get your holiday shopping done early! *All vendors have made a donation to Special Education Programs at Bardstown Primary School to participate in the sale!
X-ALT-DESC;FMTTYPE=text/html:Over 20 local vendors with various homemade/craft and direct marketing booths to offer something for everyone!! Get your holiday shopping done early! *All vendors have made a donation to Special Education Programs at Bardstown Primary School to participate in the sale!
LOCATION:Bardstown Primary School
UID:e.2912.1397
SEQUENCE:3
DTSTAMP:20260424T080719Z
URL:https://members.bardstownchamber.com/events/details/forget-black-friday-multi-vendor-sale-1397
END:VEVENT

END:VCALENDAR
