BEGIN:VCALENDAR
VERSION:2.0
PRODID:-//ChamberMaster//Event Calendar 2.0//EN
METHOD:PUBLISH
X-PUBLISHED-TTL:P3D
REFRESH-INTERVAL:P3D
CALSCALE:GREGORIAN
BEGIN:VEVENT
DTSTART:20180913T230000Z
DTEND:20180914T013000Z
X-MICROSOFT-CDO-ALLDAYEVENT:FALSE
SUMMARY:Flights of Bourbon
DESCRIPTION:Fly away with the crews from Buffalo Trace and 1792. Expand your tasting knowledge as you savor these Kentucky Bourbons and delightful cuisine. Join us for an evening at Samuels Field\, Bardstown's own airport\, while you watch the sunset from the hangar. VIP option includes early entry and exclusive pours.
X-ALT-DESC;FMTTYPE=text/html:Fly away with the crews from Buffalo Trace and 1792. Expand your tasting knowledge as you savor these Kentucky Bourbons and delightful cuisine. Join us for an evening at Samuels Field\, Bardstown&#39\;s own airport\, while you watch the sunset from the hangar. VIP option includes early entry and exclusive pours.
LOCATION:Nelson County Airport/Samuels Field
UID:e.2912.1493
SEQUENCE:3
DTSTAMP:20260419T195727Z
URL:https://members.bardstownchamber.com/events/details/flights-of-bourbon-1493
END:VEVENT

END:VCALENDAR
