BEGIN:VCALENDAR
VERSION:2.0
PRODID:-//ChamberMaster//Event Calendar 2.0//EN
METHOD:PUBLISH
X-PUBLISHED-TTL:P3D
REFRESH-INTERVAL:P3D
CALSCALE:GREGORIAN
BEGIN:VEVENT
DTSTART:20180726T210000Z
DTEND:20180726T230000Z
X-MICROSOFT-CDO-ALLDAYEVENT:FALSE
SUMMARY:First and Second Grade Open House Bardstown Primary School
DESCRIPTION:First and second grade students get to meet their new teacher and classmates. Local vendors\, school & community resources will also be on hand.
X-ALT-DESC;FMTTYPE=text/html:<span style="color: rgb(29\, 33\, 41)\; font-family: Helvetica\, Arial\, sans-serif\; font-size: 14px\; background-color: rgb(255\, 255\, 255)\;">First and second grade students get to meet their new teacher and classmates. Local vendors\, school &amp\; community resources will also be on hand.</span>
LOCATION:pin Bardstown Primary School 1000 Templin Ave\, Bardstown\, Kentucky 40004
UID:e.2912.1535
SEQUENCE:3
DTSTAMP:20260419T224725Z
URL:https://members.bardstownchamber.com/events/details/first-and-second-grade-open-house-bardstown-primary-school-1535
END:VEVENT

END:VCALENDAR
