BEGIN:VCALENDAR
VERSION:2.0
PRODID:-//ChamberMaster//Event Calendar 2.0//EN
METHOD:PUBLISH
X-PUBLISHED-TTL:P3D
REFRESH-INTERVAL:P3D
CALSCALE:GREGORIAN
BEGIN:VEVENT
DTSTART:20180505T000000Z
DTEND:20180505T035500Z
X-MICROSOFT-CDO-ALLDAYEVENT:FALSE
SUMMARY:Fifty Shades of pink
DESCRIPTION:Join us on Friday\, May 4th for our "Fifty Shades of Pink" event! Following the last race of Oaks 2018\, celebrate the evening with live music from Derby City Jukebox\, dancing\, food\, signature cocktails\, and the opportunity to dip your own limited-edition Evan Williams Single Barrel in pink wax! Tickets include heavy appetizers and two drink tickets. There will be a cash bar on-site for additional drinks.\n\n\n\nThe special Evan Williams Single Barrel release was bottled at 104 Proof\, in recognition of the 144th Kentucky Oaks on May the 4th\, and are $74.99 each. Guests purchasing a bottle will dip it in pink wax (safety equipment provided for dipping). There are 250 bottles of this edition exclusively available to attendees of this event.\n\n\n\nEach guest will leave with a commemorative Heaven Hill Distillery / Fifty Shades of Pink rocks glass. Derby and pink attire strongly encouraged.
X-ALT-DESC;FMTTYPE=text/html:<span style="color: rgb(75\, 79\, 86)\; font-family: Helvetica\, Arial\, sans-serif\; font-size: 14px\; background-color: rgb(255\, 255\, 255)\;">Join us on Friday\, May 4th for our &ldquo\;Fifty Shades of Pink&rdquo\; event! Following the last race of Oaks 2018\, celebrate the evening with live music from Derby City Jukebox\, dancing\, food\, signature cocktails\, and the opportunity to dip your own limited-edition Evan Williams Single Barrel in pink wax! Tickets include heavy appetizers and two drink tickets. There will be a cash bar on-site for additional drinks.</span><br style="color: rgb(75\, 79\, 86)\; font-family: Helvetica\, Arial\, sans-serif\; font-size: 14px\; background-color: rgb(255\, 255\, 255)\;" />\n<br style="color: rgb(75\, 79\, 86)\; font-family: Helvetica\, Arial\, sans-serif\; font-size: 14px\; background-color: rgb(255\, 255\, 255)\;" />\n<span style="color: rgb(75\, 79\, 86)\; font-family: Helvetica\, Arial\, sans-serif\; font-size: 14px\; background-color: rgb(255\, 255\, 255)\;">The special Evan Williams Single Barrel release was bottled at 104 Proof\, in recognition of the 144th Kentucky Oaks on May the 4th\, and are $74.99 each. Guests purchasing a bottle will dip it in pink wax (safety equipment provided for dipping). There are 250 bottles of this edition exclusively available to attendees of this event.</span><br style="color: rgb(75\, 79\, 86)\; font-family: Helvetica\, Arial\, sans-serif\; font-size: 14px\; background-color: rgb(255\, 255\, 255)\;" />\n<br style="color: rgb(75\, 79\, 86)\; font-family: Helvetica\, Arial\, sans-serif\; font-size: 14px\; background-color: rgb(255\, 255\, 255)\;" />\n<span style="color: rgb(75\, 79\, 86)\; font-family: Helvetica\, Arial\, sans-serif\; font-size: 14px\; background-color: rgb(255\, 255\, 255)\;">Each guest will leave with a commemorative Heaven Hill Distillery / Fifty Shades of Pink rocks glass. Derby and pink attire strongly encouraged.</span>
LOCATION:pin Heaven Hill Bourbon Heritage Center 1311 Gilkey Run Rd\, Bardstown\, Kentucky 40004
UID:e.2912.1456
SEQUENCE:3
DTSTAMP:20260420T011027Z
URL:https://members.bardstownchamber.com/events/details/fifty-shades-of-pink-1456
END:VEVENT

END:VCALENDAR
