BEGIN:VCALENDAR
VERSION:2.0
PRODID:-//ChamberMaster//Event Calendar 2.0//EN
METHOD:PUBLISH
X-PUBLISHED-TTL:P3D
REFRESH-INTERVAL:P3D
CALSCALE:GREGORIAN
BEGIN:VEVENT
DTSTART:20171215T180000Z
DTEND:20171217T020000Z
X-MICROSOFT-CDO-ALLDAYEVENT:FALSE
SUMMARY:Festival of Trees
DESCRIPTION:Showcase your tree /wreath decorating skills at this community event by joining local churches\, businesses\, clubs and schools during the 2017 Christmas season. All trees/wreaths must be artificial and any size. Your tree can be sold. An overall Festival Tree will be chosen. Call Jessianne Wells at 502-507-7172
X-ALT-DESC;FMTTYPE=text/html:Showcase your tree /wreath decorating skills at this community event by joining local churches\, businesses\, clubs and schools during the 2017 Christmas season. All trees/wreaths must be artificial and any size. Your tree can be sold. An overall Festival Tree will be chosen. Call Jessianne Wells at 502-507-7172
LOCATION:Bardstown Baptist Church 101 W. Brashear Avenue
UID:e.2912.1410
SEQUENCE:3
DTSTAMP:20260422T081721Z
URL:https://members.bardstownchamber.com/events/details/festival-of-trees-1410
END:VEVENT

END:VCALENDAR
