BEGIN:VCALENDAR
VERSION:2.0
PRODID:-//ChamberMaster//Event Calendar 2.0//EN
METHOD:PUBLISH
X-PUBLISHED-TTL:P3D
REFRESH-INTERVAL:P3D
CALSCALE:GREGORIAN
BEGIN:VEVENT
DTSTART:20220209T220000Z
DTEND:20220209T230000Z
X-MICROSOFT-CDO-ALLDAYEVENT:FALSE
SUMMARY:February Connect - Hosted by SpringHill Plantation Bed and Breakfast Winery
DESCRIPTION:Member Benefit: \n\nThe Connect gives our members a place to network with other business members as well as learn about all that the Sponsors business has to offer.
X-ALT-DESC;FMTTYPE=text/html:<span style="font-size:16px\;"><strong>Member Benefit: </strong><br />\nThe Connect gives our members a place to network with other business members as well as learn about all that the Sponsors business has to offer.</span><br />\n&nbsp\;
LOCATION:Springhill Plantation Bed and Breakfast and Winery 3205 Springfield Rd. Bloomfield KY
UID:e.2912.3096
SEQUENCE:3
DTSTAMP:20260424T153609Z
URL:https://members.bardstownchamber.com/events/details/february-connect-hosted-by-springhill-plantation-bed-and-breakfast-winery-3096
END:VEVENT

END:VCALENDAR
