BEGIN:VCALENDAR
VERSION:2.0
PRODID:-//ChamberMaster//Event Calendar 2.0//EN
METHOD:PUBLISH
X-PUBLISHED-TTL:P3D
REFRESH-INTERVAL:P3D
CALSCALE:GREGORIAN
BEGIN:VEVENT
DTSTART:20171116T170000Z
DTEND:20171116T180000Z
X-MICROSOFT-CDO-ALLDAYEVENT:FALSE
SUMMARY:FAVORITE THINGS WOMEN'S COUNCIL 2017
DESCRIPTION:Favorite Things\n\nSponsored by Peacock on 3rd
X-ALT-DESC;FMTTYPE=text/html:<span style="font-size: 18px\;">Favorite Things<br />\nSponsored by Peacock on 3rd</span>
LOCATION:My Old Kentucky Home State Park in the Great Hall 501 E. Stephen Foster Ave. Bardstown\, KY 40004
UID:e.2912.1385
SEQUENCE:3
DTSTAMP:20260424T094418Z
URL:https://members.bardstownchamber.com/events/details/favorite-things-women-s-council-2017-1385
END:VEVENT

END:VCALENDAR
