BEGIN:VCALENDAR
VERSION:2.0
PRODID:-//ChamberMaster//Event Calendar 2.0//EN
METHOD:PUBLISH
X-PUBLISHED-TTL:P3D
REFRESH-INTERVAL:P3D
CALSCALE:GREGORIAN
BEGIN:VEVENT
DTSTART:20180908T100000Z
DTEND:20180908T143000Z
X-MICROSOFT-CDO-ALLDAYEVENT:FALSE
SUMMARY:Fastest In Town
DESCRIPTION:Join us to have fun\, be fit\, and find out who is the Fastest In Town!\n\n\n\n6:00 PM - Gates Open/Walk-in Registration\n\n6:00 PM - Bounce house\, face painting\, & obstacle course open\n\n6:45 PM - Adult Fitness Session\n7:00 PM - Fastest In Town Race\n\n8:00 PM - 1 Mile Family Walk/Run\n8:30 PM - Movie on Garnis Martin Field\n\n\n\nAGES 3-12\n\nWill participate in a 60 yard dash against peers of their gender & age. Participants receive a t-shirt\, certificate of completion\, and popsicle. Winner of each age group will receive a medal.\n\n\n\nFREE KIDS' MOVIE\n\nAfter the conclusion of FIT events we'll be showing a FREE KIDS' MOVIE! Movie be displayed outside on a projection screen on the football field. Start time will begin at dark (approximately 8:30 p.m.). Bring your lawn chairs and blankets so you can kick back and relax!\n\n\n\nFUN FOR THE WHOLE FAMILY\n\nFamily Fun Run & Walk\, Bounce Houses\, Obstacle Courses\, Concessions\, Face Painting\, & Games\n\n\n\nCOST\n\nPre-Registration: $12/participant before Sept 5th.\n\nPre-registered participants receive a t-shirt upon entry at event.\n\n\n\nWalk-In Registration: $15/participant.\n\nT-shirts will be provided at a later date.\n\n\n\nAll proceeds benefit Bardstown Family Resource & Youth Services Centers and recess activities.
X-ALT-DESC;FMTTYPE=text/html:Join us to have fun\, be fit\, and find out who is the Fastest In Town!<br />\n<br />\n6:00 PM - Gates Open/Walk-in Registration<br />\n6:00 PM - Bounce house\, face painting\, &amp\; obstacle course open<br />\n6:45 PM - Adult Fitness Session\n<div>7:00 PM - Fastest In Town Race</div>\n\n<div>8:00 PM - 1 Mile Family Walk/Run</div>\n8:30 PM - Movie on Garnis Martin Field<br />\n<br />\nAGES 3-12<br />\nWill participate in a 60 yard dash against peers of their gender &amp\; age. Participants receive a t-shirt\, certificate of completion\, and popsicle. Winner of each age group will receive a medal.<br />\n<br />\nFREE KIDS&#39\; MOVIE<br />\nAfter the conclusion of FIT events we&#39\;ll be showing a FREE KIDS&rsquo\; MOVIE! Movie be displayed outside on a projection screen on the football field. Start time will begin at dark (approximately 8:30 p.m.). Bring your lawn chairs and blankets so you can kick back and relax!<br />\n<br />\nFUN FOR THE WHOLE FAMILY<br />\nFamily Fun Run &amp\; Walk\, Bounce Houses\, Obstacle Courses\, Concessions\, Face Painting\, &amp\; Games<br />\n<br />\nCOST<br />\nPre-Registration: $12/participant before Sept 5th.<br />\nPre-registered participants receive a t-shirt upon entry at event.<br />\n<br />\nWalk-In Registration: $15/participant.<br />\nT-shirts will be provided at a later date.<br />\n<br />\nAll proceeds benefit Bardstown Family Resource &amp\; Youth Services Centers and recess activities.
LOCATION:Bardstown City Schools Track 420 N. Fifth Street Bardstown\, KY 40004
UID:e.2912.1576
SEQUENCE:3
DTSTAMP:20260419T194901Z
URL:https://members.bardstownchamber.com/events/details/fastest-in-town-1576
END:VEVENT

END:VCALENDAR
