BEGIN:VCALENDAR
VERSION:2.0
PRODID:-//ChamberMaster//Event Calendar 2.0//EN
METHOD:PUBLISH
X-PUBLISHED-TTL:P3D
REFRESH-INTERVAL:P3D
CALSCALE:GREGORIAN
BEGIN:VEVENT
DTSTART:20171127T160000Z
DTEND:20171128T030000Z
X-MICROSOFT-CDO-ALLDAYEVENT:FALSE
SUMMARY:Fallen Officer Memorial Fundraiser
DESCRIPTION:Buffalo Wings & Rings Bardstown\, Ky is a proud supporter of our local community. Join us for a day of raising funds for purchasing a memorial stone for our fallen officers & K9's. When you eat in it carry out on this date\, simply show or mention this event and we will donate 15% of your purchase to this great cause.
X-ALT-DESC;FMTTYPE=text/html:Buffalo Wings &amp\; Rings Bardstown\, Ky is a proud supporter of our local community. Join us for a day of raising funds for purchasing a memorial stone for our fallen officers &amp\; K9&rsquo\;s. When you eat in it carry out on this date\, simply show or mention this event and we will donate 15% of your purchase to this great cause.
LOCATION:Bardstown Wings & Rings Bardstown\, Ky
UID:e.2912.1398
SEQUENCE:3
DTSTAMP:20260424T080606Z
URL:https://members.bardstownchamber.com/events/details/fallen-officer-memorial-fundraiser-1398
END:VEVENT

END:VCALENDAR
