BEGIN:VCALENDAR
VERSION:2.0
PRODID:-//ChamberMaster//Event Calendar 2.0//EN
METHOD:PUBLISH
X-PUBLISHED-TTL:P3D
REFRESH-INTERVAL:P3D
CALSCALE:GREGORIAN
BEGIN:VEVENT
DTSTART:20181214T230000Z
DTEND:20181215T010000Z
X-MICROSOFT-CDO-ALLDAYEVENT:FALSE
SUMMARY:Fall Star Stories and Sky Watch
DESCRIPTION:Come observe the stars and constellations of fall with Bernheim's volunteer Naturalists and the Louisville Astronomical Society\, telescopes provided. Register for this event by calling\, registration and payment due by 4 pm the day prior to the start of the program. For ages 8+\, no pets allowed.
X-ALT-DESC;FMTTYPE=text/html:Come observe the stars and constellations of fall with Bernheim&#39\;s volunteer Naturalists and the Louisville Astronomical Society\, telescopes provided. Register for this event by calling\, registration and payment due by 4 pm the day prior to the start of the program. For ages 8+\, no pets allowed.
LOCATION:Bernheim Forest\, Garden Pavilion
UID:e.2912.1645
SEQUENCE:3
DTSTAMP:20260419T145315Z
URL:https://members.bardstownchamber.com/events/details/fall-star-stories-and-sky-watch-1645
END:VEVENT

END:VCALENDAR
