BEGIN:VCALENDAR
VERSION:2.0
PRODID:-//ChamberMaster//Event Calendar 2.0//EN
METHOD:PUBLISH
X-PUBLISHED-TTL:P3D
REFRESH-INTERVAL:P3D
CALSCALE:GREGORIAN
BEGIN:VEVENT
DTSTART:20191005T150000Z
DTEND:20191005T180000Z
X-MICROSOFT-CDO-ALLDAYEVENT:FALSE
SUMMARY:Fall Festival for Landmark of Bardstown
DESCRIPTION:Cake walks\n\nSilent Auctions\n\nPumpkin Contest\n\nChili cook off \n\nFace Painting \n\nPhoto Booth\n\nGames
X-ALT-DESC;FMTTYPE=text/html:Cake walks<br />\nSilent Auctions<br />\nPumpkin Contest<br />\nChili cook off&nbsp\;<br />\nFace Painting&nbsp\;<br />\nPhoto Booth<br />\nGames&nbsp\;
LOCATION:
UID:e.2912.1805
SEQUENCE:3
DTSTAMP:20260419T163956Z
URL:https://members.bardstownchamber.com/events/details/fall-festival-for-landmark-of-bardstown-1805
END:VEVENT

END:VCALENDAR
