BEGIN:VCALENDAR
VERSION:2.0
PRODID:-//ChamberMaster//Event Calendar 2.0//EN
METHOD:PUBLISH
X-PUBLISHED-TTL:P3D
REFRESH-INTERVAL:P3D
CALSCALE:GREGORIAN
BEGIN:VEVENT
DTSTART:20180913T140000Z
DTEND:20180913T160000Z
X-MICROSOFT-CDO-ALLDAYEVENT:FALSE
SUMMARY:Exploring the Flavors of Bourbon
DESCRIPTION:Join the team from Woodford Reserve for a special Woodford Reserve Bourbon tasting and Kentucky Proud luncheon. Must be 21. Registration required.
X-ALT-DESC;FMTTYPE=text/html:Join the team from Woodford Reserve for a special Woodford Reserve Bourbon tasting and Kentucky Proud luncheon. Must be 21. Registration required.
LOCATION:Wickland\, 550 Bloomfield Ave.\, Bardstown\, KY 40004
UID:e.2912.1486
SEQUENCE:3
DTSTAMP:20260419T211844Z
URL:https://members.bardstownchamber.com/events/details/exploring-the-flavors-of-bourbon-1486
END:VEVENT

END:VCALENDAR
