BEGIN:VCALENDAR
VERSION:2.0
PRODID:-//ChamberMaster//Event Calendar 2.0//EN
METHOD:PUBLISH
X-PUBLISHED-TTL:P3D
REFRESH-INTERVAL:P3D
CALSCALE:GREGORIAN
BEGIN:VEVENT
DTSTART:20190926T130000Z
DTEND:20190926T140000Z
X-MICROSOFT-CDO-ALLDAYEVENT:FALSE
SUMMARY:ENGAGE - Ensuring Business Success of the Future XLR8 Class
DESCRIPTION:Join us for this professional development opportunity offered by Jason Ballard Focal Point Coaching. \n\n\n\nENGAGE - Ensuring Business Success of the Future\n\n \n\nSucceeding in business is more competitive than ever.  Companies must continue to innovate\, out perform the competition\, remain relevant in the market\, and drive customer excellence to meet future demands?  In order to do that\, they have to lead and nurture a culture that embraces rapid change\, empowers employees to perform at their best\, and connects to the consumer in ways that will keep them buying from you for a very long time.
X-ALT-DESC;FMTTYPE=text/html:<span style="font-family:arial\;"><span style="font-size:18px\;">Join us for this professional development opportunity offered by Jason Ballard Focal Point Coaching.&nbsp\;<br />\n<br />\nENGAGE - Ensuring Business Success of the Future<br />\n&nbsp\;<br />\nSucceeding in business is more competitive than ever.&nbsp\; Companies must continue to innovate\, out perform the competition\, remain relevant in the market\, and drive customer excellence to meet future demands?&nbsp\; In order to do that\, they have to lead and nurture a culture that embraces rapid change\, empowers employees to perform at their best\, and connects to the consumer in ways that will keep them buying from you for a very long time. </span>&nbsp\; </span>&nbsp\;<br />\n<br />\n&nbsp\;
LOCATION:Nelson County Library 201 Cathedral Manor Bardstown\, KY 40004
UID:e.2912.1788
SEQUENCE:3
DTSTAMP:20260419T133105Z
URL:https://members.bardstownchamber.com/events/details/engage-ensuring-business-success-of-the-future-xlr8-class-1788
END:VEVENT

END:VCALENDAR
