BEGIN:VCALENDAR
VERSION:2.0
PRODID:-//ChamberMaster//Event Calendar 2.0//EN
METHOD:PUBLISH
X-PUBLISHED-TTL:P3D
REFRESH-INTERVAL:P3D
CALSCALE:GREGORIAN
BEGIN:VEVENT
DTSTART:20180512T140000Z
DTEND:20180512T200000Z
X-MICROSOFT-CDO-ALLDAYEVENT:FALSE
SUMMARY:Employment Expo
DESCRIPTION:Mark your calendar for the Employment Expo!
X-ALT-DESC;FMTTYPE=text/html:Mark your calendar for the Employment Expo!
LOCATION:900 Nutter Drive Bardstown\, KY 40004
UID:e.2912.1464
SEQUENCE:3
DTSTAMP:20260420T023102Z
URL:https://members.bardstownchamber.com/events/details/employment-expo-1464
END:VEVENT

END:VCALENDAR
