BEGIN:VCALENDAR
VERSION:2.0
PRODID:-//ChamberMaster//Event Calendar 2.0//EN
METHOD:PUBLISH
X-PUBLISHED-TTL:P3D
REFRESH-INTERVAL:P3D
CALSCALE:GREGORIAN
BEGIN:VEVENT
DTSTART:20180725T213000Z
DTEND:20180725T230000Z
X-MICROSOFT-CDO-ALLDAYEVENT:FALSE
SUMMARY:Elected officials Meet and Greet
DESCRIPTION:Members of Old Kentucky Home Board of REALTORS(R) are invited to meet at Cafe Primo to eat and network with our elected leaders and share your concerns and hear their latest news and big ideas! Don't miss out on a chance to get to know our leaders and share ideas! Call or email if you will be attending!
X-ALT-DESC;FMTTYPE=text/html:<span style="color: rgb(29\, 33\, 41)\; font-family: Helvetica\, Arial\, sans-serif\; font-size: 14px\; background-color: rgb(255\, 255\, 255)\;">Members of Old Kentucky Home Board of REALTORS(R) are invited to meet at Cafe Primo to eat and network with our elected leaders and share your concerns and hear their latest news and big ideas! Don&#39\;t miss out on a chance to get to know our leaders and share ideas! Call or email if you will be attending!</span>
LOCATION:
UID:e.2912.1539
SEQUENCE:3
DTSTAMP:20260419T224726Z
URL:https://members.bardstownchamber.com/events/details/elected-officials-meet-and-greet-1539
END:VEVENT

END:VCALENDAR
