BEGIN:VCALENDAR
VERSION:2.0
PRODID:-//ChamberMaster//Event Calendar 2.0//EN
METHOD:PUBLISH
X-PUBLISHED-TTL:P3D
REFRESH-INTERVAL:P3D
CALSCALE:GREGORIAN
BEGIN:VEVENT
DTSTART:20190105T140000Z
DTEND:20190105T213000Z
X-MICROSOFT-CDO-ALLDAYEVENT:FALSE
SUMMARY:Eco Kids Discovery Day: Naked Trees
DESCRIPTION:A fun event for kids and families of all ages to come and learn about the trees of Bernheim Forest. This event has three separate activities including\; Hands-on Discovery Stations\, On Your Own Challenges and a Hike of the Day in the afternoon.
X-ALT-DESC;FMTTYPE=text/html:A fun event for kids and families of all ages to come and learn about the trees of Bernheim Forest. This event has three separate activities including\; Hands-on Discovery Stations\, On Your Own Challenges and a Hike of the Day in the afternoon.
LOCATION:Bernheim Forest\, Visitor Center
UID:e.2912.1653
SEQUENCE:3
DTSTAMP:20260419T132912Z
URL:https://members.bardstownchamber.com/events/details/eco-kids-discovery-day-naked-trees-1653
END:VEVENT

END:VCALENDAR
