BEGIN:VCALENDAR
VERSION:2.0
PRODID:-//ChamberMaster//Event Calendar 2.0//EN
METHOD:PUBLISH
X-PUBLISHED-TTL:P3D
REFRESH-INTERVAL:P3D
CALSCALE:GREGORIAN
BEGIN:VEVENT
DTSTART:20181215T140000Z
DTEND:20181215T213000Z
X-MICROSOFT-CDO-ALLDAYEVENT:FALSE
SUMMARY:Eco Kids Discovery Day: Hot Chocolate Hike
DESCRIPTION:All ages welcome\, free and open to the public. This event includes 3 separate activities: On Your Own Challenge\, Discovery Stations and Hike of the Day. For more information visit our website.
X-ALT-DESC;FMTTYPE=text/html:All ages welcome\, free and open to the public. This event includes 3 separate activities: On Your Own Challenge\, Discovery Stations and Hike of the Day. For more information visit our website.
LOCATION:Bernheim Forest\, Visitor Center
UID:e.2912.1646
SEQUENCE:3
DTSTAMP:20260419T145957Z
URL:https://members.bardstownchamber.com/events/details/eco-kids-discovery-day-hot-chocolate-hike-1646
END:VEVENT

END:VCALENDAR
