BEGIN:VCALENDAR
VERSION:2.0
PRODID:-//ChamberMaster//Event Calendar 2.0//EN
METHOD:PUBLISH
X-PUBLISHED-TTL:P3D
REFRESH-INTERVAL:P3D
CALSCALE:GREGORIAN
BEGIN:VEVENT
DTSTART:20180730T223000Z
DTEND:20180731T020000Z
X-MICROSOFT-CDO-ALLDAYEVENT:FALSE
SUMMARY:Dylan Scott in Bardstown
DESCRIPTION:Dylan Scott brings his own brand of country to the amphitheater in Bardstown on Monday\, July 30th as part of the 2018 Budweiser Live at the Park Concert series! His hit "My Girl" reached No. 1 on Billboard's Country Airplay Chart last July\, and has received more than 68 MILLION views on YouTube! \n\n\n\nTickets are ONLY $25 in advance and $28 day of show. Seats are selling fast so be sure and reserve yours today at stephenfoster.com/concerts. \n\n\n\nDylan Scott official website \n\nhttp://www.dylanscottcountry.com/\n\n\n\nDylan Scott YouTube\n\nhttps://www.youtube.com/user/DylanScottCountry\n\n\n\nDylan Scott Instagram\n\nhttps://www.instagram.com/dylanscottcountry/
X-ALT-DESC;FMTTYPE=text/html:<span style="color: rgb(75\, 79\, 86)\; font-family: Helvetica\, Arial\, sans-serif\; font-size: 14px\; background-color: rgb(255\, 255\, 255)\;">Dylan Scott brings his own brand of country to the amphitheater in Bardstown on Monday\, July 30th as part of the 2018 Budweiser Live at the Park Concert series! His hit &quot\;My Girl&quot\; reached No. 1 on Billboard&rsquo\;s Country Airplay Chart last July\, and has received more than 68 MILLION views on YouTube!&nbsp\;</span><br style="color: rgb(75\, 79\, 86)\; font-family: Helvetica\, Arial\, sans-serif\; font-size: 14px\; background-color: rgb(255\, 255\, 255)\;" />\n<br style="color: rgb(75\, 79\, 86)\; font-family: Helvetica\, Arial\, sans-serif\; font-size: 14px\; background-color: rgb(255\, 255\, 255)\;" />\n<span style="color: rgb(75\, 79\, 86)\; font-family: Helvetica\, Arial\, sans-serif\; font-size: 14px\; background-color: rgb(255\, 255\, 255)\;">Tickets are ONLY $25 in advance and $28 day of show. Seats are selling fast so be sure and reserve yours today at&nbsp\;</span><a data-lynx-mode="asynclazy" href="https://l.facebook.com/l.php?u=http%3A%2F%2Fstephenfoster.com%2Fconcerts&amp\;h=ATNKb3aVeGnV2STdhCmq9stvUX0BwBss5UzvL9sJnFuJXiMSZrlIdYdsa-CQpPETyM4TCZ0PgbatKD0bAMVAd20-v042oMJtYzxKfsEGia3pQr9NmA4" rel="nofollow noopener" style="color: rgb(54\, 88\, 153)\; cursor: pointer\; text-decoration-line: none\; font-family: Helvetica\, Arial\, sans-serif\; font-size: 14px\; background-color: rgb(255\, 255\, 255)\;" target="_blank">stephenfoster.com/concerts</a><span style="color: rgb(75\, 79\, 86)\; font-family: Helvetica\, Arial\, sans-serif\; font-size: 14px\; background-color: rgb(255\, 255\, 255)\;">.&nbsp\;</span><br style="color: rgb(75\, 79\, 86)\; font-family: Helvetica\, Arial\, sans-serif\; font-size: 14px\; background-color: rgb(255\, 255\, 255)\;" />\n<br style="color: rgb(75\, 79\, 86)\; font-family: Helvetica\, Arial\, sans-serif\; font-size: 14px\; background-color: rgb(255\, 255\, 255)\;" />\n<span style="color: rgb(75\, 79\, 86)\; font-family: Helvetica\, Arial\, sans-serif\; font-size: 14px\; background-color: rgb(255\, 255\, 255)\;">Dylan Scott official website&nbsp\;</span><br style="color: rgb(75\, 79\, 86)\; font-family: Helvetica\, Arial\, sans-serif\; font-size: 14px\; background-color: rgb(255\, 255\, 255)\;" />\n<a data-lynx-mode="asynclazy" data-lynx-uri="https://l.facebook.com/l.php?u=http%3A%2F%2Fwww.dylanscottcountry.com%2F&amp\;h=ATMLd8J2SPnbIo9KhSRcV-tm_tbC6d1AK9nE-VSMR4PBGEDPe0tuwmbUSsWrwo_3dP1-l-0FY9qxpeRZMvYbu_lyR0gOCDG57_lkDAkVbjzc9M_H7l0" href="http://www.dylanscottcountry.com/" rel="nofollow noopener" style="color: rgb(54\, 88\, 153)\; cursor: pointer\; text-decoration-line: none\; font-family: Helvetica\, Arial\, sans-serif\; font-size: 14px\; background-color: rgb(255\, 255\, 255)\;" target="_blank"><span style="font-family: inherit\;">http://</span><wbr />www.dylanscottcountry.com/</a><br style="color: rgb(75\, 79\, 86)\; font-family: Helvetica\, Arial\, sans-serif\; font-size: 14px\; background-color: rgb(255\, 255\, 255)\;" />\n<br style="color: rgb(75\, 79\, 86)\; font-family: Helvetica\, Arial\, sans-serif\; font-size: 14px\; background-color: rgb(255\, 255\, 255)\;" />\n<span style="color: rgb(75\, 79\, 86)\; font-family: Helvetica\, Arial\, sans-serif\; font-size: 14px\; background-color: rgb(255\, 255\, 255)\;">Dylan Scott YouTube</span><br style="color: rgb(75\, 79\, 86)\; font-family: Helvetica\, Arial\, sans-serif\; font-size: 14px\; background-color: rgb(255\, 255\, 255)\;" />\n<a data-lynx-mode="asynclazy" data-lynx-uri="https://l.facebook.com/l.php?u=https%3A%2F%2Fwww.youtube.com%2Fuser%2FDylanScottCountry&amp\;h=ATNskwK-CuScBHuBAGEoR3I_OSpt7wMd53TAjpGorKsFYycTllK4z4x07HQc3QJXOQ4soivjVyxqSX5iXvNIAfTwSb9Ho78Sc7ZGMEzk6B0Fbn-PFXM" href="https://www.youtube.com/user/DylanScottCountry" rel="nofollow noopener" style="color: rgb(54\, 88\, 153)\; cursor: pointer\; text-decoration-line: none\; font-family: Helvetica\, Arial\, sans-serif\; font-size: 14px\; background-color: rgb(255\, 255\, 255)\;" target="_blank"><span style="font-family: inherit\;">https://www.youtube.com/</span><wbr />user/DylanScottCountry</a><br style="color: rgb(75\, 79\, 86)\; font-family: Helvetica\, Arial\, sans-serif\; font-size: 14px\; background-color: rgb(255\, 255\, 255)\;" />\n<br style="color: rgb(75\, 79\, 86)\; font-family: Helvetica\, Arial\, sans-serif\; font-size: 14px\; background-color: rgb(255\, 255\, 255)\;" />\n<span style="color: rgb(75\, 79\, 86)\; font-family: Helvetica\, Arial\, sans-serif\; font-size: 14px\; background-color: rgb(255\, 255\, 255)\;">Dylan Scott Instagram</span><br style="color: rgb(75\, 79\, 86)\; font-family: Helvetica\, Arial\, sans-serif\; font-size: 14px\; background-color: rgb(255\, 255\, 255)\;" />\n<a data-lynx-mode="asynclazy" data-lynx-uri="https://l.facebook.com/l.php?u=https%3A%2F%2Fwww.instagram.com%2Fdylanscottcountry%2F&amp\;h=ATMltprnSsWbHfqa5J6y5gK0SG0Vl916CBqgndN0E9b942SqDCwo3DY188SS4ETf1VuGZizoEJ-WZudgL7aGboxsk_p0ZA4-pmekteRQXeATebyoErM" href="https://www.instagram.com/dylanscottcountry/" rel="nofollow noopener" style="color: rgb(54\, 88\, 153)\; cursor: pointer\; text-decoration-line: none\; font-family: Helvetica\, Arial\, sans-serif\; font-size: 14px\; background-color: rgb(255\, 255\, 255)\;" target="_blank"><span style="font-family: inherit\;">https://www.instagram.com/</span><wbr />dylanscottcountry/</a>
LOCATION:
UID:e.2912.1471
SEQUENCE:3
DTSTAMP:20260419T224446Z
URL:https://members.bardstownchamber.com/events/details/dylan-scott-in-bardstown-1471
END:VEVENT

END:VCALENDAR
