BEGIN:VCALENDAR
VERSION:2.0
PRODID:-//ChamberMaster//Event Calendar 2.0//EN
METHOD:PUBLISH
X-PUBLISHED-TTL:P3D
REFRESH-INTERVAL:P3D
CALSCALE:GREGORIAN
BEGIN:VEVENT
DTSTART:20210529T130000Z
DTEND:20210529T220000Z
X-MICROSOFT-CDO-ALLDAYEVENT:FALSE
SUMMARY:Donate Blood\, save a life and get a KINGS ISLAND TICKET!
DESCRIPTION:Donate blood May 27-29 at our Louisville (Hillview and Middletown) Donor Centers and you'll get a free general admission ticket to King's Island amusement park in Cincinnati. (Tickets are good for the 2021 season\, expiring on September 6.) Appointments preferred\, donors that are fully vaccinated are not required to wear a mask. Donors will be automatically entered to win a 2021 Toyota C-HR. Donors registering between May 24-July 4th will be entered. Donors must be 18 years or older at the time of registration to be entered.\n\n \n\nSchedule your appointment at kybloodcenter.org or call 800-775-2522.
X-ALT-DESC;FMTTYPE=text/html:<span style="color:#232525"><span style="font-size:13.5pt">Donate blood May 27-29 at our Louisville (Hillview and Middletown) Donor Centers and you&rsquo\;ll get a free general admission ticket to King&rsquo\;s Island amusement park in Cincinnati. (Tickets are good for the 2021 season\, expiring on September 6.) Appointments preferred\, donors that are fully vaccinated are not required to wear a mask. </span></span><span style="color:#FF0000"><span style="font-size:13.5pt">Donors will be automatically entered to win a 2021 Toyota C-HR. Donors registering between May 24-July 4<sup>th</sup> will be entered.</span></span><span style="color:#232525"><span style="font-size:13.5pt"> Donors must be 18 years or older at the time of registration to be entered.</span></span><br />\n&nbsp\;<br />\n<span style="color:#232525"><span style="font-size:13.5pt">Schedule your appointment at <a href="https://my.kybloodcenter.org/donor/schedules/center/3">kybloodcenter.org</a> or call 800-775-2522.</span></span>
LOCATION:5406 Antle Drive\, Louisville\, KY 12905 Shelbyville Road\, Louisville\, KY
UID:e.2912.2983
SEQUENCE:3
DTSTAMP:20260425T025718Z
URL:https://members.bardstownchamber.com/events/details/donate-blood-save-a-life-and-get-a-kings-island-ticket-05-29-2021-2983
END:VEVENT

END:VCALENDAR
