BEGIN:VCALENDAR
VERSION:2.0
PRODID:-//ChamberMaster//Event Calendar 2.0//EN
METHOD:PUBLISH
X-PUBLISHED-TTL:P3D
REFRESH-INTERVAL:P3D
CALSCALE:GREGORIAN
BEGIN:VEVENT
DTSTART;VALUE=DATE:20180817
DTEND;VALUE=DATE:20180819
TRANSP:TRANSPARENT
X-MICROSOFT-CDO-ALLDAYEVENT:TRUE
SUMMARY:Dippin Dogs
DESCRIPTION:Mark your calendars! Our annual dog swim and fundraiser\, Dippin Dogs is just around the corner. Friday\, August 17th- Dock Dogs\, dog jumping will start the week-end events at 7:00 PM. Saturday\, August 18th is the dog swim event starting at 10:00 AM. For more information and early registration\, please visit the Dippin Dogs website: www.dippindogs.org\n\n\n\n	Causes\n	Kid Friendly
X-ALT-DESC;FMTTYPE=text/html:<div class="_63eu" style="box-sizing: border-box\; font-size: 14px\; max-height: 260px\; overflow: hidden\; padding: 12px\; word-wrap: break-word\; font-family: Helvetica\, Arial\, sans-serif\; color: rgb(29\, 33\, 41)\; background-color: rgb(255\, 255\, 255)\;">\n<div class="_63ew" data-testid="event-permalink-details" style="font-family: inherit\;"><span style="font-family: inherit\;">Mark your calendars! Our annual dog swim and fundraiser\, Dippin Dogs is just around the corner. Friday\, August 17th- Dock Dogs\, dog jumping will start the week-end events at 7:00 PM. Saturday\, August 18th is the dog swim event starting at 10:00 AM. For more information and early registration\, please visit the Dippin Dogs website:&nbsp\;<a data-lynx-mode="hover" data-lynx-uri="https://l.facebook.com/l.php?u=http%3A%2F%2Fwww.dippindogs.org%2F&amp\;h=AT2xwsmnJc6xzGi5MxW5xzPCiKG2ePwgNYv9shXs0mLVe3lnxnfLSA5kOaFAH4ZE8ctEchHaGM0e3Rhpbd3L1dQfQSDwCrDVzvK5pV_3akVkxHtZE-OxxPFigecnKIAiaw" href="http://www.dippindogs.org/" rel="nofollow noopener" style="color: rgb(54\, 88\, 153)\; cursor: pointer\; text-decoration-line: none\; font-family: inherit\;" target="_blank">www.dippindogs.org</a></span></div>\n</div>\n\n<ul class="_63er" style="list-style-type: none\; margin: 0px\; padding: 12px 12px 8px\; color: rgb(29\, 33\, 41)\; font-family: Helvetica\, Arial\, sans-serif\; font-size: 12px\; background-color: rgb(255\, 255\, 255)\;">\n	<li class="_63ep _63eq" style="background-color: rgb(237\, 242\, 250)\; border-radius: 2px\; color: rgb(32\, 55\, 95)\; cursor: pointer\; display: inline-block\; height: 14px\; line-height: 14px\; margin: 0px 4px 4px 0px\; padding: 4px 6px\; position: relative\;"><a href="https://www.facebook.com/events/discovery/?acontext=%7B%22source%22%3A1%2C%22action_history%22%3A%22[%7B%5C%22surface%5C%22%3A%5C%22dashboard%5C%22%2C%5C%22mechanism%5C%22%3A%5C%22dashboard_home_discovery_filter%5C%22%7D%2C%7B%5C%22surface%5C%22%3A%5C%22discover_filter_list%5C%22%2C%5C%22mechanism%5C%22%3A%5C%22surface%5C%22%2C%5C%22extra_data%5C%22%3A%7B%5C%22dashboard_filter%5C%22%3A%5C%22discovery%5C%22%7D%7D%2C%7B%5C%22surface%5C%22%3A%5C%22permalink%5C%22%2C%5C%22mechanism%5C%22%3A%5C%22event_information%5C%22%2C%5C%22extra_data%5C%22%3A%7B%5C%22tag%5C%22%3A%5C%22Causes%5C%22%7D%7D]%22%7D&amp\;suggestion_token=%7B%22event_categories%22%3A[1284277608291920]%7D" style="color: rgb(54\, 88\, 153)\; cursor: pointer\; text-decoration-line: none\; font-family: inherit\;">Causes</a></li>\n	<li class="_63ep _63eq" style="background-color: rgb(237\, 242\, 250)\; border-radius: 2px\; color: rgb(32\, 55\, 95)\; cursor: pointer\; display: inline-block\; height: 14px\; line-height: 14px\; margin: 0px 4px 4px 0px\; padding: 4px 6px\; position: relative\;"><a href="https://www.facebook.com/events/discovery/?acontext=%7B%22source%22%3A1%2C%22action_history%22%3A%22[%7B%5C%22surface%5C%22%3A%5C%22dashboard%5C%22%2C%5C%22mechanism%5C%22%3A%5C%22dashboard_home_discovery_filter%5C%22%7D%2C%7B%5C%22surface%5C%22%3A%5C%22discover_filter_list%5C%22%2C%5C%22mechanism%5C%22%3A%5C%22surface%5C%22%2C%5C%22extra_data%5C%22%3A%7B%5C%22dashboard_filter%5C%22%3A%5C%22discovery%5C%22%7D%7D%2C%7B%5C%22surface%5C%22%3A%5C%22permalink%5C%22%2C%5C%22mechanism%5C%22%3A%5C%22event_information%5C%22%2C%5C%22extra_data%5C%22%3A%7B%5C%22tag%5C%22%3A%5C%22Kid%20Friendly%5C%22%7D%7D]%22%7D&amp\;suggestion_token=%7B%22event_flags%22%3A[%22family_friendly%22]%7D" style="color: rgb(54\, 88\, 153)\; cursor: pointer\; text-decoration-line: none\; font-family: inherit\;">Kid Friendly</a></li>\n</ul>\n
LOCATION:
UID:e.2912.1572
SEQUENCE:3
DTSTAMP:20260419T211603Z
URL:https://members.bardstownchamber.com/events/details/dippin-dogs-1572
END:VEVENT

END:VCALENDAR
