BEGIN:VCALENDAR
VERSION:2.0
PRODID:-//ChamberMaster//Event Calendar 2.0//EN
METHOD:PUBLISH
X-PUBLISHED-TTL:P3D
REFRESH-INTERVAL:P3D
CALSCALE:GREGORIAN
BEGIN:VEVENT
DTSTART:20180628T200000Z
DTEND:20180628T230000Z
X-MICROSOFT-CDO-ALLDAYEVENT:FALSE
SUMMARY:DEARINGER & KLINDT CHIROPRACTIC CARE CENTER GRAND REOPENING !!!
DESCRIPTION:Come join us for the fun and celebration of the Grand Re-opening of Dearinger & Klindt  Chiropractic Care Center. June\, 28\, 2018 from 4 - 7 P.M There will be a bounce house for children\, Food\, Photo booth\, Orthotics\, Pool floats and more!! GRAND PRIZE 50" SMART TELEVISION!!
X-ALT-DESC;FMTTYPE=text/html:Come join us for the fun and celebration of the Grand Re-opening of Dearinger &amp\; Klindt&nbsp\; Chiropractic Care Center. June\, 28\, 2018 from 4 - 7 P.M There will be a bounce house for children\, Food\, Photo booth\, Orthotics\, Pool floats and more!! GRAND PRIZE 50&quot\; SMART TELEVISION!!&nbsp\;
LOCATION:107 North 5Th Street\, Bardstown\, Ky 40004
UID:e.2912.1519
SEQUENCE:3
DTSTAMP:20260420T000240Z
URL:https://members.bardstownchamber.com/events/details/dearinger-klindt-chiropractic-care-center-grand-reopening-1519
END:VEVENT

END:VCALENDAR
