BEGIN:VCALENDAR
VERSION:2.0
PRODID:-//ChamberMaster//Event Calendar 2.0//EN
METHOD:PUBLISH
X-PUBLISHED-TTL:P3D
REFRESH-INTERVAL:P3D
CALSCALE:GREGORIAN
BEGIN:VEVENT
DTSTART:20180610T010000Z
DTEND:20180610T210000Z
X-MICROSOFT-CDO-ALLDAYEVENT:FALSE
SUMMARY:Day Out With Thomas TM
DESCRIPTION:Enjoy the day with Thomas the Tank Engine! Tickets are $20 per person ages 2 and up. Tickets include a 25 minute ride with Thomas and lots of activities for the family including inflatables\, meet and greet with Sir Topham Hatt\, miniature golf\, photos with Thomas and Sir Topham Hatt and much more! Tickets are not on sale currently\, however\, we anticipate they will go on sale soon!
X-ALT-DESC;FMTTYPE=text/html:<span style="color: rgb(29\, 33\, 41)\; font-family: Helvetica\, Arial\, sans-serif\; font-size: 14px\; background-color: rgb(255\, 255\, 255)\;">Enjoy the day with Thomas the Tank Engine! Tickets are $20 per person ages 2 and up. Tickets include a 25 minute ride with Thomas and lots of activities for the family including inflatables\, meet and greet with Sir Topham Hatt\, miniature golf\, photos with Thomas and Sir Topham Hatt and much more! Tickets are not on sale currently\, however\, we anticipate they will go on sale soon!</span>
LOCATION:pin The Kentucky Railway Museum 136 South Main Street\, New Haven\, Kentucky 40051
UID:e.2912.1509
SEQUENCE:3
DTSTAMP:20260419T235833Z
URL:https://members.bardstownchamber.com/events/details/day-out-with-thomas-tm-1509
END:VEVENT

END:VCALENDAR
