BEGIN:VCALENDAR
VERSION:2.0
PRODID:-//ChamberMaster//Event Calendar 2.0//EN
METHOD:PUBLISH
X-PUBLISHED-TTL:P3D
REFRESH-INTERVAL:P3D
CALSCALE:GREGORIAN
BEGIN:VEVENT
DTSTART;VALUE=DATE:20191107
DTEND;VALUE=DATE:20191108
TRANSP:TRANSPARENT
X-MICROSOFT-CDO-ALLDAYEVENT:TRUE
SUMMARY:Day at the Races 2019
DESCRIPTION:Come out for a day of networking\, food and wagering!      \n\nSponsored by Fort Knox Federal Credit Union\n\nChurchill Downs - Millionaires Row \n\nThursday\, November 7th \n\n\n\nMillionaires Row Dress Code\n\nTrack Casual\n\nJackets and blazers optional\, vests\, shirts with collars\, sweaters\, dresses\, pantsuits\, dress jeans and slacks are appropriate\, as are golf shorts\, dress shorts and capris. Worn or torn garments\, halter tops\, athletic wear\, frayed or torn denim and midriff tops are considered inappropriate attire.\n\n\n\nParking\n\nGates Open at 11:30am\, so anyone arriving early to set up will need to park at Gate 12 and enter the faculties via Gate 10. Guests arriving after Gates Open can park at Gate 10. Below is a link to parking maps.\n\nhttps://www.churchilldowns.com/visit/info/parking\n\n\n\nFood and Beverages\n\nService time for the Chef's Table in the Millionaires Row is from Gates Open (11:30am) to 2:30pm. The bar will also begin service at Gates Open. Last call for the bar is the Call To Post for the Second To Last Race of the day.
X-ALT-DESC;FMTTYPE=text/html:<span style="font-size:18px\;">Come out for a day of networking\, food and wagering! &nbsp\;&nbsp\;&nbsp\;&nbsp\;&nbsp\;<br />\nSponsored by Fort Knox Federal Credit Union<br />\nChurchill Downs - Millionaires Row&nbsp\;<br />\nThursday\, November 7th&nbsp\;<br />\n<br />\nMillionaires Row Dress Code<br />\nTrack Casual<br />\nJackets and blazers optional\, vests\, shirts with collars\, sweaters\, dresses\, pantsuits\, dress jeans and slacks are appropriate\, as are golf shorts\, dress shorts and capris. Worn or torn garments\, halter tops\, athletic wear\, frayed or torn denim and midriff tops are considered inappropriate attire.<br />\n<br />\nParking<br />\nGates Open at 11:30am\, so anyone arriving early to set up will need to park at Gate 12 and enter the faculties via Gate 10. Guests arriving after Gates Open can park at Gate 10. Below is a link to parking maps.<br />\n<a href="https://www.churchilldowns.com/visit/info/parking" target="_blank">https://www.churchilldowns.com/visit/info/parking</a><br />\n<br />\nFood and Beverages<br />\nService time for the Chef&rsquo\;s Table in the Millionaires Row is from Gates Open (11:30am) to 2:30pm. The bar will also begin service at Gates Open. Last call for the bar is the Call To Post for the Second To Last Race of the day.</span>
LOCATION:Churchill Downs 700 Central Ave Louisville\, KY 40208
UID:e.2912.1673
SEQUENCE:3
DTSTAMP:20260419T163410Z
URL:https://members.bardstownchamber.com/events/details/day-at-the-races-2019-1673
END:VEVENT

END:VCALENDAR
