BEGIN:VCALENDAR
VERSION:2.0
PRODID:-//ChamberMaster//Event Calendar 2.0//EN
METHOD:PUBLISH
X-PUBLISHED-TTL:P3D
REFRESH-INTERVAL:P3D
CALSCALE:GREGORIAN
BEGIN:VEVENT
DTSTART;VALUE=DATE:20161103
DTEND;VALUE=DATE:20161104
TRANSP:TRANSPARENT
X-MICROSOFT-CDO-ALLDAYEVENT:TRUE
SUMMARY:Day at the Races 2016
DESCRIPTION:A fun filled day of food\, beverages and wagering at Chuchill Downs! Come out and network with fellow Chamber members!
X-ALT-DESC;FMTTYPE=text/html:A fun filled day of&nbsp\;food\, beverages and&nbsp\;wagering&nbsp\;at Chuchill Downs! Come out and network with fellow Chamber members! &nbsp\;
LOCATION:
UID:e.2912.1
SEQUENCE:3
DTSTAMP:20260425T012548Z
URL:https://members.bardstownchamber.com/events/details/day-at-the-races-2016-1
END:VEVENT

END:VCALENDAR
