BEGIN:VCALENDAR
VERSION:2.0
PRODID:-//ChamberMaster//Event Calendar 2.0//EN
METHOD:PUBLISH
X-PUBLISHED-TTL:P3D
REFRESH-INTERVAL:P3D
CALSCALE:GREGORIAN
BEGIN:VEVENT
DTSTART:20180824T220000Z
DTEND:20180825T010000Z
X-MICROSOFT-CDO-ALLDAYEVENT:FALSE
SUMMARY:Date Night at Jesters Winery
DESCRIPTION:They're back! Our favorite Winer and caf  is joining us again for an evening of farm to table cooking. And for those of you who've been to a class with Chef Hayden know some wine will most likely end up in the recipes as well. Join us for a fun filled evening of wine and cooking! This one usually sells out fast. \n\n\n\nOwner and Executive Chef - Chris Hayden\n\n\n\nBruschetta Trio Of Local Fruit\, Veggies And Cheese\,\n\nButter Soy Beef Tenderloin With Local Mushrooms Paired w/ An Orange Vinaigrette Topped Spinach Salad\,\n\nSpiral Apple Bake w/ A Wine Infused Whipped Cream
X-ALT-DESC;FMTTYPE=text/html:<span style="color: rgb(29\, 33\, 41)\; font-family: Helvetica\, Arial\, sans-serif\; font-size: 14px\; background-color: rgb(255\, 255\, 255)\;">They&#39\;re back! Our favorite Winer and caf&eacute\; is joining us again for an evening of farm to table cooking. And for those of you who&#39\;ve been to a class with Chef Hayden know some wine will most likely end up in the recipes as well. Join us for a fun filled evening of wine and cooking! This one usually sells out fast.&nbsp\;</span><br style="color: rgb(29\, 33\, 41)\; font-family: Helvetica\, Arial\, sans-serif\; font-size: 14px\; background-color: rgb(255\, 255\, 255)\;" />\n<br style="color: rgb(29\, 33\, 41)\; font-family: Helvetica\, Arial\, sans-serif\; font-size: 14px\; background-color: rgb(255\, 255\, 255)\;" />\n<span style="color: rgb(29\, 33\, 41)\; font-family: Helvetica\, Arial\, sans-serif\; font-size: 14px\; background-color: rgb(255\, 255\, 255)\;">Owner and Executive Chef - Chris Hayden</span><br style="color: rgb(29\, 33\, 41)\; font-family: Helvetica\, Arial\, sans-serif\; font-size: 14px\; background-color: rgb(255\, 255\, 255)\;" />\n<br style="color: rgb(29\, 33\, 41)\; font-family: Helvetica\, Arial\, sans-serif\; font-size: 14px\; background-color: rgb(255\, 255\, 255)\;" />\n<span style="color: rgb(29\, 33\, 41)\; font-family: Helvetica\, Arial\, sans-serif\; font-size: 14px\; background-color: rgb(255\, 255\, 255)\;">Bruschetta Trio Of Local Fruit\, Veggies And Cheese\,</span><br style="color: rgb(29\, 33\, 41)\; font-family: Helvetica\, Arial\, sans-serif\; font-size: 14px\; background-color: rgb(255\, 255\, 255)\;" />\n<span style="color: rgb(29\, 33\, 41)\; font-family: Helvetica\, Arial\, sans-serif\; font-size: 14px\; background-color: rgb(255\, 255\, 255)\;">Butter Soy Beef Tenderloin With Local Mushrooms Paired w/ An Orange Vinaigrette Topped Spinach Salad\,</span><br style="color: rgb(29\, 33\, 41)\; font-family: Helvetica\, Arial\, sans-serif\; font-size: 14px\; background-color: rgb(255\, 255\, 255)\;" />\n<span style="color: rgb(29\, 33\, 41)\; font-family: Helvetica\, Arial\, sans-serif\; font-size: 14px\; background-color: rgb(255\, 255\, 255)\;">Spiral Apple Bake w/ A Wine Infused Whipped Cream</span>
LOCATION:
UID:e.2912.1565
SEQUENCE:3
DTSTAMP:20260419T211712Z
URL:https://members.bardstownchamber.com/events/details/date-night-at-jesters-winery-1565
END:VEVENT

END:VCALENDAR
