BEGIN:VCALENDAR
VERSION:2.0
PRODID:-//ChamberMaster//Event Calendar 2.0//EN
METHOD:PUBLISH
X-PUBLISHED-TTL:P3D
REFRESH-INTERVAL:P3D
CALSCALE:GREGORIAN
BEGIN:VEVENT
DTSTART:20201112T160000Z
DTEND:20201112T170000Z
X-MICROSOFT-CDO-ALLDAYEVENT:FALSE
SUMMARY:Dance to the Music of Change
DESCRIPTION:Join us as Simply Put Newspaper and The Social Boutique present ways to effectively combine print + social media advertising for your business this upcoming Holiday Season.
X-ALT-DESC;FMTTYPE=text/html:<span style="color: rgb(5\, 5\, 5)\; font-family: &quot\;Segoe UI Historic&quot\;\, &quot\;Segoe UI&quot\;\, Helvetica\, Arial\, sans-serif\; font-size: 15px\; background-color: rgb(255\, 255\, 255)\;">Join us as Simply Put Newspaper and The Social Boutique present ways to effectively combine print + social media advertising for your business this upcoming Holiday Season.</span>
LOCATION:Virtual on Zoom
UID:e.2912.2902
SEQUENCE:3
DTSTAMP:20260424T081539Z
URL:https://members.bardstownchamber.com/events/details/dance-to-the-music-of-change-2902
END:VEVENT

END:VCALENDAR
