BEGIN:VCALENDAR
VERSION:2.0
PRODID:-//ChamberMaster//Event Calendar 2.0//EN
METHOD:PUBLISH
X-PUBLISHED-TTL:P3D
REFRESH-INTERVAL:P3D
CALSCALE:GREGORIAN
BEGIN:VEVENT
DTSTART:20180714T140000Z
DTEND:20180715T030000Z
X-MICROSOFT-CDO-ALLDAYEVENT:FALSE
SUMMARY:CVMA KY Chapter 1-4 Freedom Rumble
DESCRIPTION:Freedom Rumble is the annual fundraising event for the Combat Vets Motorcycle Association - Kentucky Chapter 1-4. \n\n\n\nCome ride with us and help support homeless Veterans in Louisville and surrounding areas. This event is open to the public. \n\n\n\nThis year we'll be raffling off a 2017 Harley Davidson CVO Breakout\, tickets will be available early in 2018.\n\n\n\nHost hotel info - Staybridge Suites Louisville-East ((immediately beside Bluegrass Harley Davidson). Please use the link below to secure your discounted reservation.
X-ALT-DESC;FMTTYPE=text/html:<span style="font-family:arial\;"><span style="color: rgb(29\, 33\, 41)\; font-size: 14px\; background-color: rgb(255\, 255\, 255)\;">Freedom Rumble is the annual fundraising event for the Combat Vets Motorcycle Association - Kentucky Chapter 1-4.&nbsp\;</span><br style="color: rgb(29\, 33\, 41)\; font-family: Helvetica\, Arial\, sans-serif\; font-size: 14px\; background-color: rgb(255\, 255\, 255)\;" />\n<br style="color: rgb(29\, 33\, 41)\; font-family: Helvetica\, Arial\, sans-serif\; font-size: 14px\; background-color: rgb(255\, 255\, 255)\;" />\n<span style="color: rgb(29\, 33\, 41)\; font-size: 14px\; background-color: rgb(255\, 255\, 255)\;">Come ride with us and help support homeless Veterans in Louisville and surrounding areas. This event is open to the public.&nbsp\;</span><br style="color: rgb(29\, 33\, 41)\; font-family: Helvetica\, Arial\, sans-serif\; font-size: 14px\; background-color: rgb(255\, 255\, 255)\;" />\n<br style="color: rgb(29\, 33\, 41)\; font-family: Helvetica\, Arial\, sans-serif\; font-size: 14px\; background-color: rgb(255\, 255\, 255)\;" />\n<span style="color: rgb(29\, 33\, 41)\; font-size: 14px\; background-color: rgb(255\, 255\, 255)\;">This year we&#39\;ll be raffling off a 2017 Harley Davidson CVO Breakout\, tickets will be available early in 2018.</span><br style="color: rgb(29\, 33\, 41)\; font-family: Helvetica\, Arial\, sans-serif\; font-size: 14px\; background-color: rgb(255\, 255\, 255)\;" />\n<br style="color: rgb(29\, 33\, 41)\; font-family: Helvetica\, Arial\, sans-serif\; font-size: 14px\; background-color: rgb(255\, 255\, 255)\;" />\n<span style="color: rgb(29\, 33\, 41)\; font-size: 14px\; background-color: rgb(255\, 255\, 255)\;">Host hotel info - Staybridge Suites Louisville-East ((immediately beside Bluegrass Harley Davidson). Please use the link below to secure your discounted reservation.</span></span><br style="color: rgb(29\, 33\, 41)\; font-family: Helvetica\, Arial\, sans-serif\; font-size: 14px\; background-color: rgb(255\, 255\, 255)\;" />\n<br style="color: rgb(29\, 33\, 41)\; font-family: Helvetica\, Arial\, sans-serif\; font-size: 14px\; background-color: rgb(255\, 255\, 255)\;" />\n&nbsp\;
LOCATION:Bluegrass Harley-Davidson 11701 Gateworth Way\, Louisville\, Kentucky 40299
UID:e.2912.1481
SEQUENCE:3
DTSTAMP:20260419T224732Z
URL:https://members.bardstownchamber.com/events/details/cvma-ky-chapter-1-4-freedom-rumble-1481
END:VEVENT

END:VCALENDAR
